BEGIN:VCALENDAR
VERSION:2.0
PRODID:-//http://bomi40.eu///NONSGML kigkonsult.se iCalcreator 2.10.15//
METHOD:PUBLISH
BEGIN:VEVENT
UID:20260419T195335CEST-2741p2aI1h@http://bomi40.eu/
DTSTAMP:20260419T175335Z
DESCRIPTION:Am 4. Mai lädt bwcon zum 3-Gänge-Menü Business Lunch mit Dr. Fl
 orian Toncar\, Parlamentarischer Staatssekretär beim Bundesminister der Fi
 nanzen\, in das Hotel Hirsch nach Leonberg ein.\nDie disruptiven Veränderu
 ngen der letzten Jahre wie der Klimawandel\, die Digitalisierung und Weite
 re verlangen inbesondere von der Wirtschaft innovative Lösungsansätze. Wir
  stehen dabei im Wettbewerb mit der internationalen Gemeinschaft. An innov
 ativen Ansätzen mangelt es uns in Deutschland und insbesondere Baden-Württ
 emberg nicht. Im Jahr 2019 gab es alleine 15.230 Patentanmeldungen in Bade
 n-Württemberg. Doch wie steht es um unsere Innovations- und Investmentkult
 ur? Sind die Anreize für eine nachhaltige und digitale Transformation rich
 tig gesetzt? Studien von KPMG zeigen\, dass der US-amerikanische und asiat
 ische Markt weitaus investitionsbereiter sind. Vor allem wenn es darum geh
 t\, Innovationen zur Marktreife zu skalieren\, sind hiesige Volumen im Ver
 gleich sehr gering. Können wir so die Herausforderungen unserer Zeit meist
 ern?\nTeilnahme\n\n\n&nbsp\;65\,00 € für bwcon Mitglieder\n\n\n75\,00 € fü
 r Nicht-Mitglieder\n\n\n(inkl. Mwst und alles inklusive 3-Gänge-Menü\, Get
 ränke und Vortrag)\nAnmeldung\nWeitere Informationen zur Veranstaltung fin
 den Sie hier... http://bomi40.eu/de/service-kompetenz/veranstaltungen/ort/
 event/2678-investitionen-in-innovationen-bwcon-business-lunch-mit-mdb-dr-f
 lorian-toncar
DTSTART:20230504T093000Z
DTEND:20230504T120000Z
LOCATION:Hotel Hirsch in Leonberg (Hindenburgstraße 1\, 71229 Leonberg\, De
 utschland)
SUMMARY:Investitionen in Innovationen: bwcon Business Lunch mit MdB Dr. Flo
 rian Toncar
URL:http://bomi40.eu/de/service-kompetenz/veranstaltungen/ort/event/2678-in
 vestitionen-in-innovationen-bwcon-business-lunch-mit-mdb-dr-florian-toncar
END:VEVENT
END:VCALENDAR
