BEGIN:VCALENDAR
VERSION:2.0
PRODID:-//http://bomi40.eu///NONSGML kigkonsult.se iCalcreator 2.10.15//
METHOD:PUBLISH
BEGIN:VEVENT
UID:20260419T193452CEST-5815adNTPV@http://bomi40.eu/
DTSTAMP:20260419T173452Z
DESCRIPTION:Fragen aufwerfen\, vor allem aber die Antworten geben – das lie
 fert die EFFEKTE-Reihe seit Juni 2022 bis zum EFFEKTEWissenschaftsfestival
  im Sommer 2023 mit Vorträgen und Diskussionen zu spannenden Wissenschafts
 themen. Immer am „Wissenschaftsdienstag“ präsentieren sich Hochschul- und 
 Forschungseinrichtungen aus Karlsruhe und der Region und zeigen\, dass sie
  mit ihrer Forschung am absoluten Puls der Zeit sind. Es geht um Rohstoffe
 \, autonome Fahrräder\, das Universum\, der Umgang mit Information und Nac
 hhaltigkeit.\nAm 9. Mai geht es um Nachhaltigkeit. Die Transformation hin 
 zu einer nachhaltigen Gesellschaft ist eine der wesentlichen Aufgaben auch
  für die Forschung. Geldbeutel aus Kaktusleder oder\, ein Becher aus Kaffe
 esatz: die Bioökonomie ist enorm wichtig. Es wird gezeigt wie eine Zukunft
  ganz ohne fossile Rohstoffe aussehen kann. Zu viel\, zu fett\, zu süß\, z
 u salzig -ernährungsmitbedingte Erkrankungen wiedersprechen dem Nachhaltig
 keitsziel „Gesundheit“. Experten*innen berichten über aktuelle Ergebnisse 
 aus der Forschung.\nDer Eintritt ist frei.\nWeitere Informationen zur Vera
 nstaltung finden Sie hier... http://bomi40.eu/de/service-kompetenz/veranst
 altungen/ort/event/2686-effekte-reihe-wie-kann-die-welt-nachhaltiger-werde
 n
DTSTART:20230509T173000Z
DTEND:20230509T190000Z
LOCATION:TRIANGEL Open Space (Kaiserstraße 93\, 76133 Karlsruhe\, Deutschla
 nd)
SUMMARY:EFFEKTE-Reihe: Wie kann die Welt nachhaltiger werden?
URL:http://bomi40.eu/de/service-kompetenz/veranstaltungen/ort/event/2686-ef
 fekte-reihe-wie-kann-die-welt-nachhaltiger-werden
END:VEVENT
END:VCALENDAR
