BEGIN:VCALENDAR
VERSION:2.0
PRODID:-//http://bomi40.eu///NONSGML kigkonsult.se iCalcreator 2.10.15//
METHOD:PUBLISH
BEGIN:VEVENT
UID:20260419T191353CEST-5671PWV0MO@http://bomi40.eu/
DTSTAMP:20260419T171353Z
DESCRIPTION:Die vergangenen Jahre mit Corona und der aktuelle Konflikt in d
 er Ukraine haben bei vielen CH Unternehmungen zu Strategieanpassungen gefü
 hrt. Sell global\, buy local heißt die Devise!   Dieser Strategieanpassung
  wird am 22. September nachgegangen. Am 22. Ostschweizer Technologiesympos
 ium wird beispielhafte Praxis lokaler Unternehmen mit fundierter Wissensch
 aft untermauert. Sichern Sie sich heute schon den 22. September und freuen
  Sie sich auf das OTS 2023.\nAnmeldung\nKosten pro Person: CHF 320.- (Tagu
 ngsunterlagen und Verpflegung sind im Preis inbegriffen.)\nProgramm\nWeite
 re Informationen zur Veranstaltung finden Sie hier... http://bomi40.eu/de/
 service-kompetenz/veranstaltungen/ort/event/2687-22-ostschweizer-technolog
 iesymposium-sichere-lieferketten-in-unsicherer-weltlage
DTSTART:20230922T060000Z
DTEND:20230922T150000Z
LOCATION:St. Gallen OLMA Halle 2.1 (St. Jakob-Strasse\, 9000 St. Gallen\, S
 chweiz)
SUMMARY:22. Ostschweizer Technologiesymposium : «Sichere Lieferketten in un
 sicherer Weltlage» 
URL:http://bomi40.eu/de/service-kompetenz/veranstaltungen/ort/event/2687-22
 -ostschweizer-technologiesymposium-sichere-lieferketten-in-unsicherer-welt
 lage
END:VEVENT
END:VCALENDAR
