BEGIN:VCALENDAR
VERSION:2.0
PRODID:-//http://bomi40.eu///NONSGML kigkonsult.se iCalcreator 2.10.15//
METHOD:PUBLISH
BEGIN:VEVENT
UID:20260419T193453CEST-4811BbNnso@http://bomi40.eu/
DTSTAMP:20260419T173453Z
DESCRIPTION:Eine Unternehmensnachfolge stellt eine Alternative zur Gründung
  und zum organischen Wachstum dar. In dieser Veranstaltung erfahren Sie\, 
 welche Chancen und Risiken die Übernahme eines Unternehmens mit sich bring
 t. Weiterhin wird darauf eingegangen\, worauf sowohl Übernehmende als auch
  Übergebende bei einem solchen Prozess achten sollten. Außerdem geht es um
  die Fragen: Wie finde ich das passende Unternehmen? Was ist der richtige 
 Wert meines Unternehmens?\nDie Teilnahme an der Reihe 'Digitale Impulse' i
 st kostenfrei!Diese Veranstaltung ist Teil der Landesinitiative der baden-
 württembergischen Industrie- und Handelskammern.\nAnmeldung\nWeitere Infor
 mationen zur Veranstaltung befinden sich hier... http://bomi40.eu/de/servi
 ce-kompetenz/veranstaltungen/ort/event/2697-die-wichtigsten-aspekte-der-un
 ternehmensnachfolge
DTSTART:20230628T140000Z
DTEND:20230628T153000Z
LOCATION: Online an Ihrem PC oder Laptop ()
SUMMARY:Die wichtigsten Aspekte der Unternehmensnachfolge
URL:http://bomi40.eu/de/service-kompetenz/veranstaltungen/ort/event/2697-di
 e-wichtigsten-aspekte-der-unternehmensnachfolge
END:VEVENT
END:VCALENDAR
