BEGIN:VCALENDAR
VERSION:2.0
PRODID:-//http://bomi40.eu///NONSGML kigkonsult.se iCalcreator 2.10.15//
METHOD:PUBLISH
BEGIN:VEVENT
UID:20260419T203647CEST-8697aM1wwm@http://bomi40.eu/
DTSTAMP:20260419T183647Z
DESCRIPTION: http://bomi40.eu/de/service-kompetenz/veranstaltungen/ort/even
 t/27-besichtigung-regierungsgebaeude-frauenfeld
DTSTART:20160929T140000Z
DTEND:20160929T180000Z
LOCATION:Amriswil (Poststrasse\, 8580 Amriswil\, Schweiz)
SUMMARY:Besichtigung Regierungsgebäude Frauenfeld
URL:http://bomi40.eu/de/service-kompetenz/veranstaltungen/ort/event/27-besi
 chtigung-regierungsgebaeude-frauenfeld
END:VEVENT
END:VCALENDAR
