BEGIN:VCALENDAR
VERSION:2.0
PRODID:-//http://bomi40.eu///NONSGML kigkonsult.se iCalcreator 2.10.15//
METHOD:PUBLISH
BEGIN:VEVENT
UID:20260419T192359CEST-7604Lbaj02@http://bomi40.eu/
DTSTAMP:20260419T172359Z
DESCRIPTION:Scheduled for Wednesday\, September 27 to Thursday\, September 
 28\, 2023\, this workshop will provide participants with valuable insights
  and guidance on effective innovation strategies. Attendees will be inspir
 ed to embrace disruptive innovation and drive positive transformation with
 in their organizations. The workshop will serve as a platform for collabor
 ation\, knowledge sharing\, and the cultivation of an innovative culture.
 \nAnmeldeschluss: 22.09.2023\nAnmeldung\nPreis: CHF 2'990 für bis zu 2 Tei
 lnehmer. Jede weitere Person des selben Unternehmens CHF 1'450.\nWeitere I
 nformationen zur Veranstaltung finden Sie hier... http://bomi40.eu/de/serv
 ice-kompetenz/veranstaltungen/ort/event/2708-what-is-the-best-way-for-your
 -company-to-innovate-and-why-exclusive-vertical-integration-or-inclusive-h
 orizontal-co-creation
DTSTART:20230927T070000Z
DTEND:20230927T153000Z
LOCATION:Hybrid: online oder Vorort (Fürst-Franz-Josef-Strasse\, 9490 Vaduz
 \, Liechtenstein)
SUMMARY:'What is the best way for your Company to Innovate and Why?' - Excl
 usive Vertical Integration or Inclusive Horizontal Co-Creation
URL:http://bomi40.eu/de/service-kompetenz/veranstaltungen/ort/event/2708-wh
 at-is-the-best-way-for-your-company-to-innovate-and-why-exclusive-vertical
 -integration-or-inclusive-horizontal-co-creation
END:VEVENT
END:VCALENDAR
