BEGIN:VCALENDAR
VERSION:2.0
PRODID:-//http://bomi40.eu///NONSGML kigkonsult.se iCalcreator 2.10.15//
METHOD:PUBLISH
BEGIN:VEVENT
UID:20260419T203921CEST-3508TnVnxh@http://bomi40.eu/
DTSTAMP:20260419T183921Z
DESCRIPTION:In diesem Seminar lernen Sie die geltenden CO2 Gesetzgebungen e
 benso wie die relevanten Regulatorik-Instrumente als Treiber der Elektromo
 bilität kennen. Sie bekommen Einblicke in die steigende Bedeutung an Nachh
 altigkeit und an Software in der Produktentwicklung. Sie erhalten Einblick
 e in Elektrische Antriebe\, Speichersysteme und Brennstoffzellen. Darüber 
 hinaus wird auf Hybrid- und Elektrofahrzeuge eingegangen\, hier zum Beispi
 el auf das Zusammenspiel von Verbrenner und elektrischem Antrieb.\nInhalte
  im Detail:\n\nAktuelle Herausforderungen in der Automobil-Industrie:Steig
 ende Bedeutung an Nachhaltigkeit und Software in der Produktentwicklung\nC
 O2 Gesetzgebungen und relevante Regulatorik-Instrumenteals Treiber der Ele
 ktromobilität\nElektrische Antriebe:Arten und Eigenschaften\; Funktionswei
 sen und Kenngrößen\nHochvolt-Batterie:Speichersysteme und deren Eigenschaf
 ten\; Überblick über Zellen\, Formate\,relevante Kenngrößen zur Charakteri
 sierung\; vom Modul zum Gesamtsystem\;Integration im Gesamtfahrzeug\; Lade
 n\nBrennstoffzellen:Funktionsweise\; Überblick über Arten von BSZ\; Integr
 ation im Gesamtfahrzeug\nHybrid- und Elektrofahrzeuge:Zusammenspiel von Ve
 rbrenner und Elektrischem Antrieb\; Möglichkeiten desAntriebsstranglayouts
  und Betriebsstrategien\; Konstruktions-Designs\n\nFür weitere Information
 en steht ihnen das LCSG gerne zur Verfügung. Mail: lcgs@htwg-konstanz.de o
 der per Telefon: +49 7531 206-337\nAnmeldung\nWeitere Informationen zur Ve
 ranstaltung finden Sie hier... http://bomi40.eu/de/service-kompetenz/veran
 staltungen/ort/event/2712-zertifikatkurs-elektromobilitaet-und-elektrifizi
 erung-von-fahrzeugen
DTSTART:20230712T070000Z
DTEND:20230713T150000Z
LOCATION:Konstanz (Brauneggerstraße 55\, 78462 Konstanz\, Deutschland)
SUMMARY:Zertifikatkurs:  Elektromobilität und Elektrifizierung von Fahrzeug
 en
URL:http://bomi40.eu/de/service-kompetenz/veranstaltungen/ort/event/2712-ze
 rtifikatkurs-elektromobilitaet-und-elektrifizierung-von-fahrzeugen
END:VEVENT
END:VCALENDAR
