BEGIN:VCALENDAR
VERSION:2.0
PRODID:-//http://bomi40.eu///NONSGML kigkonsult.se iCalcreator 2.10.15//
METHOD:PUBLISH
BEGIN:VEVENT
UID:20260419T180402CEST-27098NV2DF@http://bomi40.eu/
DTSTAMP:20260419T160402Z
DESCRIPTION:Schlagwörter wie BIM\, Automatisierung\, Künstliche Intelligenz
 \, Plattform und Cloudbasiert prägen das Bauwesen immer mehr. Was Prozesse
  damit zu tun haben und welche Chancen und Hürden in der Implementierung a
 uftreten\, erwartet Sie beim diesjährigen Digital Engineering Day 2023 von
  FCP.VCE.\nDiskutieren Sie mit Top-Expert:innen\, erleben inspirierende Vo
 rträge und sichern Sie sich einen der begehrten Sitzplätze.\nIm Anschluss 
 erwarten Sie Networking\, Drinks und köstliches Fingerfood. Knüpfen Sie we
 rtvolle Kontakte und tauschen Sie sich in entspannter Atmosphäre mit musik
 alischer Untermalung aus.\nAnmeldung\nDie Teilnahme ist kostenlos\, eine A
 nmeldung ist erforderlich.\nWeitere Informationen zur Veranstaltung befind
 en sich hier...\n&nbsp\;\n&nbsp\; http://bomi40.eu/de/service-kompetenz/ve
 ranstaltungen/ort/event/2714-digital-engineering-day-2023
DTSTART:20231107T130000Z
DTEND:20231107T170000Z
LOCATION:Kuppelsaal der TU Wien (Resselgasse\, 1040 Wien\, Österreich)
SUMMARY:Digital Engineering Day 2023
URL:http://bomi40.eu/de/service-kompetenz/veranstaltungen/ort/event/2714-di
 gital-engineering-day-2023
END:VEVENT
END:VCALENDAR
