BEGIN:VCALENDAR
VERSION:2.0
PRODID:-//http://bomi40.eu///NONSGML kigkonsult.se iCalcreator 2.10.15//
METHOD:PUBLISH
BEGIN:VEVENT
UID:20260419T180409CEST-0164g6V2ko@http://bomi40.eu/
DTSTAMP:20260419T160409Z
DESCRIPTION:Das Innovationsprogramm InnoLab\nInnoLab ist ein 3-monatiges In
 novationsprogramm und bietet Unternehmen\, Hochschulabsolvent*innen und In
 teressierten eine besondere Möglichkeit innovative Lösungen für wichtige I
 nnovations-Herausforderungen zu entwickeln. Digitale Talente aus den Berei
 chen Software Entwicklung\, User Experience Design und Data Science sind e
 ingeladen\, sich für das InnoLab vom 02. Oktober bis zum 22. Dezember 2023
  in Dornbirn zu bewerben.\nDie Idee dahinterDas InnoLab bringt Unternehmen
  mit digitalen Talenten zusammen\, um innovative Produkte zu entwickeln. U
 nternehmen formulieren ihre Innovationsaufgabe und interdisziplinäre Teams
  entwickeln Produkte mit kundenzentrierten und agilen Methoden. Dabei werd
 en sie von Fachleuten unterstützt. Teilnehmer erwerben in kurzer Zeit Bran
 chenkenntnisse und sammeln Berufserfahrungen.\nDie ChallengesEs stehen dre
 i Challenges zur Auswahl:🧠 KI-gestützter Wissensaustausch bei OMICRON elec
 tronics: Wie können wir KI nutzen\, um Wissen mit Expert*innen aus der Ene
 rgiebranche zu teilen und die Stabilität der Energienetze zu gewährleisten
 ?💸Nachhaltige Investitionen von BTV Leasing: Wie können wir durch die Digi
 talisierung unseren Kunden auf einfachste Weise nachhaltige Leasinginvesti
 tionen ermöglichen?🤲Inklusive Räume von CARITAS (Frühjahr'24): Wie können 
 wir Interaktionsräume gestalten\, um personenzentrierte Assistenz für Mens
 chen mit Beeinträchtigung zu ermöglichen und Inklusion zu fördern?\nAnmeld
 eschluss ist der 06. August 2023\nAnmeldung\nWeitere Informationen finden 
 Sie hier... http://bomi40.eu/de/service-kompetenz/veranstaltungen/ort/even
 t/2726-innolab-2023
DTSTART:20231002T080000Z
DTEND:20231222T130000Z
LOCATION:Gravitat° BTV House of Innovation (Bahnhofstraße 15\, 6850 Dornbir
 n\, Österreich)
SUMMARY:InnoLab 2023
URL:http://bomi40.eu/de/service-kompetenz/veranstaltungen/ort/event/2726-in
 nolab-2023
END:VEVENT
END:VCALENDAR
