BEGIN:VCALENDAR
VERSION:2.0
PRODID:-//http://bomi40.eu///NONSGML kigkonsult.se iCalcreator 2.10.15//
METHOD:PUBLISH
BEGIN:VEVENT
UID:20260419T174729CEST-38073KXfi9@http://bomi40.eu/
DTSTAMP:20260419T154729Z
DESCRIPTION:Das Jahresevent des Digitale Stadt München e.V. findet dieses J
 ahr am 13. – 14. September in der Gaszählerwerkstatt in München statt. Das
  Event bringt zum achten mal in Folge renommierte Experten*innen und Top-E
 ntscheider*innen aus Industrie\, Politik und Forschung in München zusammen
 \, um sich über digitale Zukunftschancen auszutauschen. Die 8. DIGICON ste
 ht unter dem Motto: Die digitale Stadt der Zukunft – Neue Möglichkeiten fü
 r Ihr Geschäftsmodell.\nIn der Zukunft werden Städte noch digitaler und ve
 rnetzter sein. Werden solche Städte der Zukunft dank moderner Technologien
  und Innovationen immer effizienter und nachhaltiger oder verbergen sich a
 uch unbekannte Herausforderungen?\nDie diesjährige DIGICON 2023 diskutiert
  die zahlreichen neuen Möglichkeiten für Geschäftsmodelle\, von Entwicklun
 g von Smart City-Lösungen und Chancen für autonome Dienstleistungen\, bis 
 hin zur Vernetzung von Geräten\, Sensoren und Daten und Entwicklung von Um
 weltfreundlichen Ideen für eine Harmonie zwischen Stadt und Natur. Die dig
 itale Stadt der Zukunft bringt zahlreiche Möglichkeiten für Unternehmen um
  frühzeitig in neue digitale Ansätze zu investieren und von neuen Impulse 
 zu profitieren.\nProgramm\nAnmeldung\n\nAll inclusive Ticket für beide Ver
 anstaltungstage: 950\,00€\nEintagesticket: 550\,00€\n\nWeitere Information
 en zur Veranstaltung befinden sich hier... http://bomi40.eu/de/service-kom
 petenz/veranstaltungen/ort/event/2729-digicon-2023-digitale-welt-conventio
 n
DTSTART:20230913T120000Z
DTEND:20230914T210000Z
LOCATION:Gaszählerwerkstatt\, München (Agnes-Pockels-Bogen 6\, 80992 Münche
 n\, Deutschland)
SUMMARY:DIGICON 2023 - Digitale Welt Convention
URL:http://bomi40.eu/de/service-kompetenz/veranstaltungen/ort/event/2729-di
 gicon-2023-digitale-welt-convention
END:VEVENT
END:VCALENDAR
