BEGIN:VCALENDAR
VERSION:2.0
PRODID:-//http://bomi40.eu///NONSGML kigkonsult.se iCalcreator 2.10.15//
METHOD:PUBLISH
BEGIN:VEVENT
UID:20260419T192210CEST-6707RHBMPe@http://bomi40.eu/
DTSTAMP:20260419T172210Z
DESCRIPTION:Am 16. November 2023 wird das 10-jährige Jubiläum der Allgäuer 
 Gründerbühne in der kultBOX in Kempten gefeiert. Ob analog oder digital\, 
 regional oder global – erleben Sie innovative Ideen von Allgäuer Gründer*i
 nnen live auf der Bühne und fiebern Sie bei den Pitches der Teams um den A
 llgäuer Gründerpreis mit.\nDenn wer es beim größten Gründerwettbewerb im A
 llgäu auf einen der ersten drei Plätze schafft\, darf sich über den Sieg u
 nd ein attraktives Preisgeld freuen. Zusätzlich gibt es einen Sonderpreis 
 für die nachhaltigste Gründungsidee. Insgesamt werden 15.000 € vergeben.\n
 Nicht nur zuschauen\, beteiligen Sie sich aktiv beim Event\, netzwerken Si
 e mit anderen Zuschauer*innen und Teilnehmer*innen\, stellen Sie den Teams
  Ihre Fragen und stimmen Sie am Ende für Ihr Favoriten-Team ab. Ihre Stimm
 e zählt!\nAnmeldung\nTicket: 12 €\nWeitere Informationen zur Veranstaltung
  befinden sich hier... http://bomi40.eu/de/service-kompetenz/veranstaltung
 en/ort/event/2735-allgaeuer-gruenderbuehne-2023
DTSTART:20231116T180000Z
DTEND:20231116T203000Z
LOCATION:kultBOX (Kotterner Str. 64\, 87435 Kempten (Allgäu)\, Deutschland)
SUMMARY:Allgäuer Gründerbühne 2023
URL:http://bomi40.eu/de/service-kompetenz/veranstaltungen/ort/event/2735-al
 lgaeuer-gruenderbuehne-2023
END:VEVENT
END:VCALENDAR
