BEGIN:VCALENDAR
VERSION:2.0
PRODID:-//http://bomi40.eu///NONSGML kigkonsult.se iCalcreator 2.10.15//
METHOD:PUBLISH
BEGIN:VEVENT
UID:20260419T191017CEST-2782FRiWGX@http://bomi40.eu/
DTSTAMP:20260419T171017Z
DESCRIPTION:Der diesjährige Unternehmertag am Mittwoch\, 25. Oktober 2023\,
  in der Spoerry-Halle Vaduz steht unter dem Motto «Offensiv in die Zukunft
 ». Hochkarätige Referenten*innen aus Politik\, Wirtschaft und Wissenschaft
  zeigen auf\, wie neue Chancen in schwierigen Zeiten ergriffen werden könn
 en. Der Unternehmertag ist die führende Plattform für Unternehmertum in de
 r Region und lockt jedes Jahr mehrere hundert Teilnehmer*innen an.\nDer Un
 ternehmertag\nDer Unternehmertag ist die bedeutendste Wirtschaftstagung fü
 r Unternehmer und Entscheidungsträger*innen im Raum Liechtenstein und Rhei
 ntal. Im Zentrum der Veranstaltung stehen primär die Bedürfnisse von Unter
 nehmern. Gerade deshalb sind die Vermittlung von konkretem Wissen\, «best 
 practice» sowie das Fördern von Netzwerken zentrale Inhalte und Botschafte
 n des Unternehmertags. Seit der ersten Durchführung 2006 lockt der Unterne
 hmertag jedes Jahr rund 500 Unternehmer und Entscheidungsträger*innen aus 
 Liechtenstein\, der Ostschweiz und Vorarlberg an und vernetzt Vertreter*in
 nen aus Wirtschaft\, Politik und Verbänden.\nProgramm\nAnmeldung\nKosten: 
 290 CHF (exklusive Mehrwertsteuer)\nWeitere Informationen zur Veranstaltun
 g befinden sich hier... \n&nbsp\; http://bomi40.eu/de/service-kompetenz/ve
 ranstaltungen/ort/event/2737-unternehmertag
DTSTART:20231025T113000Z
DTEND:20231025T151500Z
LOCATION:Spoerry-Halle\, Vaduz (Rüfestrasse 6\, 9490 Vaduz\, Liechtenstein)
SUMMARY:Unternehmertag
URL:http://bomi40.eu/de/service-kompetenz/veranstaltungen/ort/event/2737-un
 ternehmertag
END:VEVENT
END:VCALENDAR
