BEGIN:VCALENDAR
VERSION:2.0
PRODID:-//http://bomi40.eu///NONSGML kigkonsult.se iCalcreator 2.10.15//
METHOD:PUBLISH
BEGIN:VEVENT
UID:20260419T193107CEST-8591AazDiC@http://bomi40.eu/
DTSTAMP:20260419T173107Z
DESCRIPTION:In unserer heutigen schnelllebigen Welt ist es für Unternehmen 
 im verarbeitenden Gewerbe von entscheidender Bedeutung\, den Fokus auf Kun
 denservice zu legen und innovative Lösungen anzubieten. Serviceorientierte
  Geschäftsmodelle sind der Schlüssel\, um Kundenbedürfnisse zu verstehen\,
  Kundenerlebnisse zu optimieren und langfristige Kundenbeziehungen aufzuba
 uen. Die Zukunft gehört denjenigen\, die herkömmliche Denkweisen herausfor
 dern und innovative Ansätze verfolgen.&nbsp\;\nIn diesem Industrietraining
  konzentrieren wir uns zwei Tage auf die Grundlagen der Geschäftsmodellinn
 ovation. Wir werden Ihnen wichtige Konzepte\, Methoden und Best Practice a
 us der Industrie vorstellen\, um Ihr Verständnis für die Entwicklung innov
 ativer Geschäftsmodelle zu vertiefen. Sie haben außerdem die Möglichkeit\,
  an interaktiven Übungen und Fallstudien teilzunehmen\, um Ihr Wissen prak
 tisch anzuwenden.\nAnmeldung\nWeitere Informationen zur Veranstaltung und 
 das Programm befinden sich hier... http://bomi40.eu/de/service-kompetenz/v
 eranstaltungen/ort/event/2741-entwicklung-serviceorientierter-geschaeftsmo
 delle
DTSTART:20230821T220000Z
DTEND:20230823T143000Z
LOCATION:Fraunhofer-Institut für Produktionstechnik und Automatisierung IPA
  Stuttgart-Vaihingen (Nobelstraße 12\, 70569 Stuttgart\, Deutschland)
SUMMARY:Entwicklung serviceorientierter Geschäftsmodelle
URL:http://bomi40.eu/de/service-kompetenz/veranstaltungen/ort/event/2741-en
 twicklung-serviceorientierter-geschaeftsmodelle
END:VEVENT
END:VCALENDAR
