BEGIN:VCALENDAR
VERSION:2.0
PRODID:-//http://bomi40.eu///NONSGML kigkonsult.se iCalcreator 2.10.15//
METHOD:PUBLISH
BEGIN:VEVENT
UID:20260419T195033CEST-83724LwXTv@http://bomi40.eu/
DTSTAMP:20260419T175033Z
DESCRIPTION:Wie können KMU befähigt werden\, Daten zu verwerten\, um einen 
 Mehrwert für das Unternehmen zu schaffen? Datenkompetenz ist eine zentrale
  Schlüsselqualifikation und Grundvoraussetzung für den erfolgreichen Einsa
 tz digitaler Technologien in Unternehmen. Normen und Standards geben Orien
 tierung und Sicherheit.\nIm Dialog mit Expert*innen aus Politik\, Wirtscha
 ft und Wissenschaft soll das Thema „Datenkompetenz in KMU“ aus unterschied
 lichen Perspektiven betrachtet werden.&nbsp\;\nWeitere Informationen zur V
 eranstaltung finden Sie hier... http://bomi40.eu/de/service-kompetenz/vera
 nstaltungen/ort/event/2750-datenkompetenz-als-schluesselqualifikation-fuer
 -kmu
DTSTART:20231114T080000Z
DTEND:20231114T130000Z
LOCATION:Bonn (Tulpenfeld 7\, 53113 Bonn\, Deutschland)
SUMMARY:Datenkompetenz als Schlüsselqualifikation für KMU
URL:http://bomi40.eu/de/service-kompetenz/veranstaltungen/ort/event/2750-da
 tenkompetenz-als-schluesselqualifikation-fuer-kmu
END:VEVENT
END:VCALENDAR
