BEGIN:VCALENDAR
VERSION:2.0
PRODID:-//http://bomi40.eu///NONSGML kigkonsult.se iCalcreator 2.10.15//
METHOD:PUBLISH
BEGIN:VEVENT
UID:20260419T191005CEST-5144uOUHcw@http://bomi40.eu/
DTSTAMP:20260419T171005Z
DESCRIPTION:Aus der Praxis für die Praxis: Bereits zum fünften Mal lädt das
  SDSC-BW gemeinsam mit dem Karlsruher Institut für Technologie (KIT) zum S
 mart Data & KI Tag ein. Kleine und mittlere Unternehmen können sich kosten
 frei rund um Smart Data Analytics und KI infomieren – vor dem Hintergrund 
 von mehr als 40 erfolgreichen Pilotprojekten und Workshops mit KMU. Neben 
 praxisnahen Fachvorträgen aus Forschung und Industrie sowie spannenden Ges
 prächsrunden wird es eine Hands-on-Demo auf dem KIT-Cluster geben. Das The
 ma: ChatGPT. Das SDSC-BW informiert außerdem über die Weiterführung des So
 lution Centers nach Ablauf der Förderphase.\nWeitere Informationen zur Ver
 anstaltung finden Sie hier...\nAnmeldung http://bomi40.eu/de/service-kompe
 tenz/veranstaltungen/ort/event/2751-smart-data-innovation-day
DTSTART:20231025T070000Z
DTEND:20231025T130000Z
LOCATION:KIT Campus Nord\, Steinbuch Centre for Computing (Hermann-von-Helh
 oltz-Platz 1\, 76344 Eggenstein-Leopoldshafen)
SUMMARY:Smart Data & Innovation Day
URL:http://bomi40.eu/de/service-kompetenz/veranstaltungen/ort/event/2751-sm
 art-data-innovation-day
END:VEVENT
END:VCALENDAR
