BEGIN:VCALENDAR
VERSION:2.0
PRODID:-//http://bomi40.eu///NONSGML kigkonsult.se iCalcreator 2.10.15//
METHOD:PUBLISH
BEGIN:VEVENT
UID:20260419T181850CEST-0063jSWnKi@http://bomi40.eu/
DTSTAMP:20260419T161850Z
DESCRIPTION:\n\n\nKunden werden nicht unbedingt mit der besten Qualität od
 er dem günstigsten Produkt gewonnen\, sondern häufig mit Schnelligkeit o
 der den besseren digitalen Services. Aufgrund dessen ist die Digitale Tran
 sformation derzeit vielleicht die wichtigste Herausforderung für Unterneh
 men\, um den Fortbestand am Markt gewährleisten zu können.\nIn einem Sem
 inar mit integriertem Workshop wird der bewährte Fraunhofer IPA Methodenb
 aukasten an einem durchgängigen Unternehmensbeispiel gezeigt. Mit den vor
 gestellten Methoden können die Teilnehmenden die Digitale Transformation 
 von der Initiierung bis zur Implementierung in Ihrem Unternehmen begleiten
  und die Umsetzung unter dem Gesichtspunkt der Wertschöpfung gestalten.\n
 Die Veranstaltung findet am&nbsp\;07. Dezember 2023&nbsp\;von&nbsp\;08:30 
 bis 17:00 Uhr&nbsp\;am&nbsp\;Fraunhofer-Institut für Produktionstechnik un
 d Automatisierung IPA\, Nobelstr. 12\, 70569 Stuttgart&nbsp\;statt. Eine T
 eilnahme kostet 490€.\n\n\n\n\n\n\n\nDas Programm zur Veranstaltung finden
  Sie hier...\nAnmeldung\n\n\n\n&nbsp\; http://bomi40.eu/de/service-kompete
 nz/veranstaltungen/ort/event/2752-wertschoepfende-methoden-fuer-die-digita
 le-transformation-ihres-unternehmens
DTSTART:20231207T073000Z
DTEND:20231207T160000Z
LOCATION:Fraunhofer-Institut IPA (Turm 3\, Nobelstraße 12\, 70569 Stuttgart
 \, Deutschland)
SUMMARY:Wertschöpfende Methoden für die Digitale Transformation Ihres Unter
 nehmens
URL:http://bomi40.eu/de/service-kompetenz/veranstaltungen/ort/event/2752-we
 rtschoepfende-methoden-fuer-die-digitale-transformation-ihres-unternehmens
END:VEVENT
END:VCALENDAR
