BEGIN:VCALENDAR
VERSION:2.0
PRODID:-//http://bomi40.eu///NONSGML kigkonsult.se iCalcreator 2.10.15//
METHOD:PUBLISH
BEGIN:VEVENT
UID:20260419T190932CEST-716641VzHX@http://bomi40.eu/
DTSTAMP:20260419T170932Z
DESCRIPTION:Aus der Praxis für die Praxis: Bereits zum fünften Mal lädt das
  SDSC-BW gemeinsam mit dem Karlsruher Institut für Technologie (KIT) zum S
 mart Data & KI Tag ein. Kleine und mittlere Unternehmen können sich kosten
 frei rund um Smart Data Analytics und KI infomieren – vor dem Hintergrund 
 von mehr als 40 erfolgreichen Pilotprojekten und Workshops mit KMU. Neben 
 praxisnahen Fachvorträgen aus Forschung und Industrie sowie spannenden Ges
 prächsrunden wird es eine Hands-on-Demo auf dem KIT-Cluster geben. Das The
 ma: ChatGPT. Das SDSC-BW informiert außerdem über die Weiterführung des So
 lution Centers nach Ablauf der Förderphase.\nWeitere Informationen zur Ver
 anstaltung finden Sie hier...\n&nbsp\;\nAnmeldung\nWeitere Informationen f
 inden Sie hier... http://bomi40.eu/de/service-kompetenz/veranstaltungen/or
 t/event/2754-5-smart-data-ki-tag
DTSTART:20231025T070000Z
DTEND:20231025T130000Z
LOCATION:Gravitat° BTV House of Innovation (Bahnhofstraße 15\, 6850 Dornbir
 n\, Österreich)
SUMMARY:5. Smart Data & KI Tag
URL:http://bomi40.eu/de/service-kompetenz/veranstaltungen/ort/event/2754-5-
 smart-data-ki-tag
END:VEVENT
END:VCALENDAR
