BEGIN:VCALENDAR
VERSION:2.0
PRODID:-//http://bomi40.eu///NONSGML kigkonsult.se iCalcreator 2.10.15//
METHOD:PUBLISH
BEGIN:VEVENT
UID:20260419T180403CEST-1065uVc4ss@http://bomi40.eu/
DTSTAMP:20260419T160403Z
DESCRIPTION:Zum diesjährigen Smart Data Innovation Day lädt das SDIL zusamm
 en mit dem nordrheinwestfälischen KI-Servicezentrum West-AI ins Schloss Bi
 rlinghoven in Sankt Augustin ein. Das kostenlose Programm rund um clevere 
 Datenanalysen umfasst Präsentationen führender Experten aus Forschung und 
 Industrie\, die Vorstellung sogenannter Mikroprojekte (Praxisbeispiele) so
 wie lebhafte Diskussionsrunden. Im Fokus stehen hier vor allem die Data-An
 alytics- und KI-Dienstleistungen der Forscher\, die neueste Entwicklungen 
 aus der Wissenschaft für Unternehmen nutzbar machen. Darüber hinaus bietet
  es den Teilnehmenden zukünftsträchtige Networking-Gelegenheiten mit Exper
 ten und Unternehmensvertretern.\nWeitere Informationen zur Veranstaltung f
 inden Sie hier...\nAnmeldung http://bomi40.eu/de/service-kompetenz/veranst
 altungen/ort/event/2755-smart-data-innovation-day
DTSTART:20231116T083000Z
DTEND:20231116T150000Z
LOCATION:Fraunhofer-Institutszentrum\, Schloss Birlingshoven IZB (Schloss B
 irlinghoven\, 53757 Sankt Augustin)
SUMMARY:Smart Data & Innovation Day
URL:http://bomi40.eu/de/service-kompetenz/veranstaltungen/ort/event/2755-sm
 art-data-innovation-day
END:VEVENT
END:VCALENDAR
