BEGIN:VCALENDAR
VERSION:2.0
PRODID:-//http://bomi40.eu///NONSGML kigkonsult.se iCalcreator 2.10.15//
METHOD:PUBLISH
BEGIN:VEVENT
UID:20260419T180615CEST-14368guDU0@http://bomi40.eu/
DTSTAMP:20260419T160615Z
DESCRIPTION:Das Einsatzpotenzial von künstlicher Intelligenz (KI) in den Be
 reichen Landwirtschaft\, Forst und Ernährung ist weitaus größer\, als es b
 isher wahrgenommen wird. Praktische Anwendungen haben bereits begonnen\, d
 ie Branche zu revolutionieren.\nIn der jährlichen Veranstaltungsreihe&nbsp
 \;'Forschungsland Bayern – Hier wächst Wissen'&nbsp\;erhalten Sie Einblick
 e in innovative Forschungsprojekte des&nbsp\;Bayerischen&nbsp\;Staatsminis
 teriums für Ernährung\, Landwirtschaft und Forsten. In diesem Jahr wird da
 s Thema KI in Kooperation mit dem&nbsp\;Kompetenz-Netzwerk Digitale Landwi
 rtschaft&nbsp\;Bayern (KNeDL)&nbsp\;und der&nbsp\;vbw – Vereinigung der Ba
 yerischen Wirtschaft e. V.&nbsp\;um wertvolle Einblicke aus der Wirtschaft
  und inspirierende Erfahrungsberichte aus dem landwirtschaftlichen Alltag 
 ergänzt.\nErhalten Sie wertvolle Impulse und Perspektiven vor Ort bei dies
 er kostenfreien Veranstaltung am&nbsp\;24. November 2023&nbsp\;im&nbsp\;hb
 w | Haus der Bayerischen Wirtschaft&nbsp\;in&nbsp\;München.&nbsp\;\nAnmeld
 ung\nWeitere Informationen zur Veranstaltung befinden sich hier... http://
 bomi40.eu/de/service-kompetenz/veranstaltungen/ort/event/2757-next-level-l
 andwirtschaft-mit-ki-einen-schritt-voraus
DTSTART;VALUE=DATE:20231124
LOCATION:Haus der Wirtschaft München (Max-Joseph-Str. 5\, 80333 München)
SUMMARY:Next Level Landwirtschaft - Mit KI einen Schritt voraus
URL:http://bomi40.eu/de/service-kompetenz/veranstaltungen/ort/event/2757-ne
 xt-level-landwirtschaft-mit-ki-einen-schritt-voraus
END:VEVENT
END:VCALENDAR
