BEGIN:VCALENDAR
VERSION:2.0
PRODID:-//http://bomi40.eu///NONSGML kigkonsult.se iCalcreator 2.10.15//
METHOD:PUBLISH
BEGIN:VEVENT
UID:20260419T174547CEST-4900twvdAS@http://bomi40.eu/
DTSTAMP:20260419T154547Z
DESCRIPTION:\n\n\nBeim HACK AND HARVEST Hackathon als themenoffenes Format 
 ist jede und jeder willkommen\, Ideen einzubringen. Gleich am Morgen des e
 rsten Tages werden die Ideen gepitcht\, die von den Teilnehmenden entweder
  vorab oder vor Ort eingebracht werden können. In den folgenden zwei Tagen
  bearbeiten die Teilnehmenden die Ideen und Fragestellungen im Rahmen von 
 Gruppenarbeit. Die Teams werden dabei von renommierten Mentorinnen und Men
 toren aus Wirtschaft und Wissenschaft unterstützt.\nTeilnehmende brauchen 
 keine Vorkenntnisse oder bestimmte Fähigkeiten\, nur Lust und Interesse\, 
 sich gemeinsam mit anderen einer Idee zu widmen und an Lösungen zu arbeite
 n. Die Projekte\, an denen gearbeitet wird\, sind vielfältig: von innovati
 ven Apps\, Künstlicher Intelligenz und digitaler Bürgerbeteiligung bis hin
  zur digitalen Spardose ist alles dabei. Das Ziel ist\, Geschäftsideen ode
 r Prototypen zu entwickeln. Alle Ideen sind willkommen\, aber es ist kein 
 Muss\, eine eigene Idee mitzubringen. Alle Teilnehmenden können frei wähle
 n\, bei welchem Projekt sie mitarbeiten.\nDie zweitägige Veranstaltung fin
 det am 28. und 29. Juni 2024 in der farm Konstanz (Shedhalle)\, Bücklestra
 ße 3 statt. Die Teilnahme ist kostenlos.\nInformationen zur Veranstaltung 
 finden Sie hier ...\n\n\n\n&nbsp\; http://bomi40.eu/de/service-kompetenz/v
 eranstaltungen/ort/event/2764-hack-and-harvest-hackathon-2023
DTSTART:20240627T220000Z
DTEND:20240629T150000Z
LOCATION:farm (Shedhalle) Konstanz (Bücklestraße 3\, 78467 Konstanz\, Deuts
 chland)
SUMMARY:HACK AND HARVEST Hackathon 2023
URL:http://bomi40.eu/de/service-kompetenz/veranstaltungen/ort/event/2764-ha
 ck-and-harvest-hackathon-2023
END:VEVENT
END:VCALENDAR
