BEGIN:VCALENDAR
VERSION:2.0
PRODID:-//http://bomi40.eu///NONSGML kigkonsult.se iCalcreator 2.10.15//
METHOD:PUBLISH
BEGIN:VEVENT
UID:20260419T191532CEST-309589rueu@http://bomi40.eu/
DTSTAMP:20260419T171532Z
DESCRIPTION:Nutzen und Einsatzmöglichkeiten von ChatGPT für KMU\nIn vielen 
 Arbeitsumfeldern hat sich das Sprachmodell ChatGPT bereits etabliert\, doc
 h für einige Unternehmen stellt sich die Frage\, wie sie das Programm auch
  in ihrem Unternehmen integrieren und wertschöpfend einsetzen können.\nBei
  der Online-Veranstaltung können die Teilnehmenden lernen\, wie sie Hürden
  überwinden und den Einsatz von ChatGPT am eigenen Arbeitsplatz zielgerich
 tet planen können. Auch wird darauf eingegangen\, wie sie KI am besten für
  sich nutzen können. Mit dem erlernten Wissen bringen die Teilnehmenden di
 e Transformation ein Stück weiter voran.\nDie Veranstaltung findet am 27. 
 Februar 2024 von 13:00 bis 14:30 Uhr online im Rahmen der Online-Reihe Tra
 nsformation statt. Die Teilnahme ist kostenlos.\nDas Programm:\n\n\nBegrüß
 ung und Einführung\nUmsetzung von KI-Systemen in Unternehmen\nGenAI und de
 r Mittelstand: Erste Schritte planen und Hürden überwinden\n\n\n\nWas muss
  ich als Unternehmen tun\, um KI für mich nutzbar zu machen?\n\n\n\n\n\nWe
 itere Informationen finden Sie hier ...\nAnmeldung http://bomi40.eu/de/ser
 vice-kompetenz/veranstaltungen/ort/event/2765-nutzen-und-einsatzmoeglichke
 iten-von-chatgpt-fuer-kmu
DTSTART:20240227T120000Z
DTEND:20240227T133000Z
LOCATION:Online-Event ()
SUMMARY:Nutzen und Einsatzmöglichkeiten von ChatGPT für KMU
URL:http://bomi40.eu/de/service-kompetenz/veranstaltungen/ort/event/2765-nu
 tzen-und-einsatzmoeglichkeiten-von-chatgpt-fuer-kmu
END:VEVENT
END:VCALENDAR
