BEGIN:VCALENDAR
VERSION:2.0
PRODID:-//http://bomi40.eu///NONSGML kigkonsult.se iCalcreator 2.10.15//
METHOD:PUBLISH
BEGIN:VEVENT
UID:20260419T182914CEST-3556cCpwc1@http://bomi40.eu/
DTSTAMP:20260419T162914Z
DESCRIPTION:\n\n\nIm Workshop werden zunächst die Grundlagen der Künstliche
 n Intelligenz (KI) vermittelt. Dabei liegt der Fokus auf dem Einsatz in de
 r Praxis\, vor allem in KMU. Anschließend werden im Praxisteil konkrete An
 wendungsbeispiele aufgezeigt – von datengetriebenen Entscheidungen bis hin
  zur Automatisierung von Prozessen. Dabei steht im Vordergrund\, wie durch
  den Einsatz von KI im Unternehmen ein Mehrwert generiert werden kann.\nIm
  letzten Teil können die Teilnehmer:innen das Gelernte anwenden und erschl
 ießen dabei Einsatzgebiete für KI im eigenen Unternehmen. Dazu erhalten si
 e spannende Best-Practice-Tipps\, die bei der Einführung von KI beachtet w
 erden sollten.\nDer Workshop findet am 25. Januar 2024 im Work-in\, Maurer
 strasse 8\, in Frauenfeld statt. Die Teilnahme ist kostenlos. Als Referent
  begrüßt Sie Benjamin Freisberg.\nProgramm\n\nBegrüßung durch Andreas Kais
 er\, Thurgauer Technologieforum\nGrundlagenreferat und Vorstellung der Met
 hode\nWorkshop und Anwenden der Methodik\nFragen & Diskussion\nApéro & Net
 working\n\nWeitere Informationen finden Sie hier … \n\n\n http://bomi40.eu
 /de/service-kompetenz/veranstaltungen/ort/event/2766-kuenstliche-intellige
 nz-fuer-kmu-praktische-anwendungen-im-chatgpt-zeitalter
DTSTART:20240125T163000Z
DTEND:20240125T180000Z
LOCATION:Work-in (Maurerstrasse 8\, 8500 Frauenfeld\, Schweiz)
SUMMARY:Künstliche Intelligenz für KMU: Praktische Anwendungen im ChatGPT-Z
 eitalter
URL:http://bomi40.eu/de/service-kompetenz/veranstaltungen/ort/event/2766-ku
 enstliche-intelligenz-fuer-kmu-praktische-anwendungen-im-chatgpt-zeitalter
END:VEVENT
END:VCALENDAR
