BEGIN:VCALENDAR
VERSION:2.0
PRODID:-//http://bomi40.eu///NONSGML kigkonsult.se iCalcreator 2.10.15//
METHOD:PUBLISH
BEGIN:VEVENT
UID:20260419T192359CEST-3147gbLv5w@http://bomi40.eu/
DTSTAMP:20260419T172359Z
DESCRIPTION:\n\n\nBeschäftigen sich Unternehmen mit Automatisierungsprozess
 en\, so bezieht sich das meistens auf die Produktion. Doch für den Unterne
 hmenserfolg ist es wichtig\, dass auch die Geschäftsabläufe in der Verwalt
 ung durch digitale Tools effizienter gestaltet werden. Im Workshop lernen 
 die Teilnehmenden\, wie die Verwaltung entbürokratisiert und mithilfe eine
 r einfachen und kostengünstigen Digitalisierung sowie Automatisierung opti
 miert werden kann. So kann nicht nur Zeit gespart werden\, sondern interne
  Prozesskosten können reduziert werden.\nDer Schwerpunkt des Kurses liegt 
 auf den Microsoft-Tools Power Apps und Power Automate. Mit diesen Tools kö
 nnen mühelos individuelle Apps zur automatisierten Datenverarbeitung erste
 llt werden. Die Teilnehmenden erlernen\, wie sie eigene Apps entwickeln un
 d einen automatisierten Workflow erstellen können. Dabei bekommen sie zunä
 chst einen theoretischen Input und in der anschließenden Praxisphase wird 
 das Erlernte am Beispiel einer Messeberichts-App veranschaulicht.\nDer Wor
 kshop findet am 17. April 2024 von 10:00 Uhr bis 16:00 Uhr in der IHK in K
 onstanz statt. Eine Teilnahme kostet 420\,00 Euro. Die Teilnehmenden müsse
 n ihr eigenes Notebook mitbringen und eine Microsoft-Power-Apps-Lizenz ins
 talliert haben. Die Teilnehmerzahl ist auf 10 Personen begrenzt.\nWeitere 
 Informationen finden Sie hier ...\nAnmeldung\n\n\n http://bomi40.eu/de/ser
 vice-kompetenz/veranstaltungen/ort/event/2770-papierlos-arbeiten-mit-offic
 e-365-geschaeftsprozesse-simpel-digitalisieren
DTSTART;VALUE=DATE:20240417
LOCATION:IHK Hochrhein-Bodensee (Reichenaustraße 21\, 78467 Konstanz\, Deut
 schland)
SUMMARY:Papierlos arbeiten: Mit Office 365 Geschäftsprozesse simpel digital
 isieren
URL:http://bomi40.eu/de/service-kompetenz/veranstaltungen/ort/event/2770-pa
 pierlos-arbeiten-mit-office-365-geschaeftsprozesse-simpel-digitalisieren
END:VEVENT
END:VCALENDAR
