BEGIN:VCALENDAR
VERSION:2.0
PRODID:-//http://bomi40.eu///NONSGML kigkonsult.se iCalcreator 2.10.15//
METHOD:PUBLISH
BEGIN:VEVENT
UID:20260419T182711CEST-9445Mo6Mx7@http://bomi40.eu/
DTSTAMP:20260419T162711Z
DESCRIPTION:\n\nEntdecken Sie die faszinierende Welt der künstlichen Intell
 igenz und erfahren Sie\, wie Ihr Unternehmen von den neuesten Entwicklunge
 n in diesem Bereich profitieren kann. Die Referent:innen der Veranstaltung
  bieten praxisnahe Einblicke in die vielfältigen Möglichkeiten der Künstli
 chen Intelligenz für Unternehmen und präsentieren Strategien für einen erf
 olgreichen Einstieg in dieses Feld. Die geplanten Themen umfassen eine Key
 note zu generativer KI\, die Anwendung Künstlicher Intelligenz in Unterneh
 menssoftware\, Weiterbildungsmöglichkeiten des IHK Bildungszentrums sowie 
 die Vorstellung regionaler Netzwerke und Unterstützer.\n\n&nbsp\;\nDas Pro
 gramm umfasst im Detail:\n\nBegrüßung\nKeynote\nDer Arbeitsalltag der Zuku
 nft: KI als unverzichtbarer Partner?\nVon Big Data zu KI: mit Künstlicher 
 Intelligenz auf Erfolgskurs\nAngebote der KI-Allianz Baden-Württemberg für
  KMU\nSchneller Zugang zu KI- und Cybersecurity Expertise: Der „de:hub ang
 ewandte Künstliche Intelligenz“ und der „European Digital Innovation Hub A
 I & Cybersecurity“ im Fokus\n\nDie Veranstaltung findet am 19. März 2024 v
 on 14:30 bis 17:30 Uhr in den Räumen der IHK Karlsruhe\,&nbsp\;Lammstraße 
 13-17\, 76133 Karlsruhe statt. Die Teilnahme ist kostenlos. Eine Anmeldung
  ist erforderlich.\nMehr Informationen finden Sie hier ...\nHier geht es z
 ur Anmeldung. http://bomi40.eu/de/service-kompetenz/veranstaltungen/ort/ev
 ent/2772-ki-kompass-fuer-unternehmen-erfolgreich-in-die-welt-der-kuenstlic
 hen-intelligenz-starten
DTSTART:20240319T133000Z
DTEND:20240319T163000Z
LOCATION:IHK Karlsruhe (Lammstraße 13-17\, 76133 Karlsruhe\, Deutschland)
SUMMARY:KI-Kompass für Unternehmen: Erfolgreich in die Welt der Künstlichen
  Intelligenz starten
URL:http://bomi40.eu/de/service-kompetenz/veranstaltungen/ort/event/2772-ki
 -kompass-fuer-unternehmen-erfolgreich-in-die-welt-der-kuenstlichen-intelli
 genz-starten
END:VEVENT
END:VCALENDAR
