BEGIN:VCALENDAR
VERSION:2.0
PRODID:-//http://bomi40.eu///NONSGML kigkonsult.se iCalcreator 2.10.15//
METHOD:PUBLISH
BEGIN:VEVENT
UID:20260419T192211CEST-2195fHAAwz@http://bomi40.eu/
DTSTAMP:20260419T172211Z
DESCRIPTION:\n\n\nDie Förderung von Offenheit im Innovationsprozess spielt 
 eine entscheidende Rolle dabei\, die Effizienz von Prozessen zu verbessern
  und Innovationen schneller auf den Markt zu bringen. Der Open Innovation 
 Kongress BW bietet eine Plattform für den Austausch von Ideen zwischen Gro
 ßunternehmen\, Startups\, mittelständischen Unternehmen und Forschungseinr
 ichtungen aus Baden-Württemberg\, Deutschland und Europa. Das Hauptziel is
 t es\, die Innovationspotenziale der Wirtschaft zu stärken. Das wird wird 
 2024 unter dem Motto 'EXPLORE AND EXPAND YOUR POTENTIAL' beleuchtet.\nDer 
 Kongress wird von Wirtschaftsministerin Dr. Nicole Hoffmeister-Kraut eröff
 net. Der OIK BW 2024 dient als Forum für innovative Unternehmerinnen und U
 nternehmer sowie die Open Innovation Community aus Baden-Württemberg und d
 arüber hinaus.\n\n\n&nbsp\;\nFreuen Sie sich auf Beiträge von unter andere
 m folgenden Speakterinnen und Speakern:\n\nProf. Dr. Thomas Kropf\, Vorsit
 zender der Geschäftsleitung des Zentralbereichs Forschung und Vorausentwic
 klung der Robert Bosch GmbH\nSusanne Hahn\, Founding Partner & CEO der SKV
  Invest GmbH in Stuttgart\nDr. Guido van Tartwijk\, CEO Heliatek GmbH\n\nA
 uf Sie warten außerdem weitere Programmhighlights und ein interaktives Pro
 gramm am Nachmittag.\nDie Veranstaltung findet am 8. April 2024 von 9:15 b
 is 17:00 Uhr im Haus der Wirtschaft in Stuttgart statt. Eine Anmeldung ist
  erforderlich. Die Teilnahme ist kostenlos.\nMehr Informationen finden Sie
  hier ...\nHier geht es zur Anmeldung. http://bomi40.eu/de/service-kompete
 nz/veranstaltungen/ort/event/2775-open-innovation-kongress-baden-wuerttemb
 erg-2024
DTSTART:20240408T071500Z
DTEND:20240408T150000Z
LOCATION:Haus der Wirtschaft\, Stuttgart  (Willi-Bleicher-Straße 19\, 70174
  Stuttgart\, Deutschland)
SUMMARY:Open Innovation Kongress Baden-Württemberg 2024
URL:http://bomi40.eu/de/service-kompetenz/veranstaltungen/ort/event/2775-op
 en-innovation-kongress-baden-wuerttemberg-2024
END:VEVENT
END:VCALENDAR
