BEGIN:VCALENDAR
VERSION:2.0
PRODID:-//http://bomi40.eu///NONSGML kigkonsult.se iCalcreator 2.10.15//
METHOD:PUBLISH
BEGIN:VEVENT
UID:20260419T191132CEST-594438T8eU@http://bomi40.eu/
DTSTAMP:20260419T171132Z
DESCRIPTION:\n\nDie XR EXPO ist die B2B-Ausstellungsmesse für Virtual Reali
 ty (VR)\, Mixed Reality (MR) und Augmented Reality (AR) oder kurz gesagt: 
 eXtended Reality (XR). Der Fokus liegt auf XR-Technologien und professione
 llen Anwendungen von VR\, MR und AR in der Industrie\, Architektur\, Gesun
 dheit\, Handel und Handwerk. Die XR EXPO zeichnet sich durch XR-Branchenri
 esen\, exzellente Speakerinnen und Speaker sowie zahlreiche Praxisbeispiel
 e aus. Die XR EXPO hat sich zum Ziel gesetzt\, DER Treffpunkt für Industri
 enutzer\, Technologieanbieter\, Inhaltsdienstleister und XR-Forschende zu 
 sein. Das Treffen bietet außerdem die perfekte Gelegenheit zum Networking.
 \n\n&nbsp\;\nDas Programm umfasst im Detail:\n\nBegrüßung\nKeynote\nDer Ar
 beitsalltag der Zukunft: KI als unverzichtbarer Partner?\nVon Big Data zu 
 KI: mit Künstlicher Intelligenz auf Erfolgskurs\nAngebote der KI-Allianz B
 aden-Württemberg für KMU\nSchneller Zugang zu KI- und Cybersecurity Expert
 ise: Der „de:hub angewandte Künstliche Intelligenz“ und der „European Digi
 tal Innovation Hub AI & Cybersecurity“ im Fokus\n\nDie Veranstaltung finde
 t am 3. April von 9:00 bis 18:00 Uhr und am 4. April von 9:00 bis 16:00 Uh
 r im Haus der Wirtschaft in Stuttgart statt. Am 3. April von 18:00 bis 24:
 00 Uhr findet außerdem ein Networking-Event statt.\nMehr Informationen fin
 den Sie hier ...\nHier geht es zur Anmeldung. http://bomi40.eu/de/service-
 kompetenz/veranstaltungen/ort/event/2776-xr-expo-2024
DTSTART:20240403T070000Z
DTEND:20240404T140000Z
LOCATION:Haus der Wirtschaft\, Stuttgart  (Willi-Bleicher-Straße 19\, 70174
  Stuttgart\, Deutschland)
SUMMARY:XR EXPO 2024
URL:http://bomi40.eu/de/service-kompetenz/veranstaltungen/ort/event/2776-xr
 -expo-2024
END:VEVENT
END:VCALENDAR
