BEGIN:VCALENDAR
VERSION:2.0
PRODID:-//http://bomi40.eu///NONSGML kigkonsult.se iCalcreator 2.10.15//
METHOD:PUBLISH
BEGIN:VEVENT
UID:20260419T193744CEST-3608nZodU9@http://bomi40.eu/
DTSTAMP:20260419T173744Z
DESCRIPTION:\n\nAuch in der Arbeitswelt ist das Programm ChatGPT mittlerwei
 le angekommen. Die KI-Anwendung bietet Unternehmen zahlreiche Einsatzmögli
 chkeiten. Dazu gehören das Optimieren von Prozessen sowie das Erschließen 
 neuer Geschäftsfelder. Im Seminar erlernen die Teilnehmenden die Grundlage
 n in der Anwendung von ChatGPT und darüber hinaus erfahren sie anhand von 
 zahlreichen Beispielen\, in welchen Feldern die Anwendung eingesetzt werde
 n kann.\n\n&nbsp\;\nDas detaillierte Programm:\n\n1. Was ist ChatGPT? Ein 
 kurzer Überblick\n\nUrsprünge und Entwicklung von ChatGPT\nUnterschiede zu
  anderen KI-Modellen\n\n2. Anwendungen von ChatGPT in KMU\n\nKundenservice
  und Support\nContent-Erstellung und Marketing\nAutomatisierung von Geschä
 ftsprozessen\nPersonalisierte Kundenansprache\n\n3. Best Practices für KMU
 s\n\nErfolgsgeschichten: Wie KMUs ChatGPT effektiv nutzen\nTipps zur Imple
 mentierung und Schulung\nUmgang mit Herausforderungen und häufigen Fehlern
 \n\n4. Fragen & Antworten\n\nGelegenheit für die Teilnehmer\, Fragen zu st
 ellen und zu diskutieren\n\nDas Seminar findet am 10. April 2024 von 15:00
  bis 17:00 Uhr online statt. Die Teilnahme kostet 70 €. Den Teilnahmelink 
 erhalten Teilnehmende nach der Anmeldung.\nMehr Informationen finden Sie h
 ier ...\nHier geht es zur Anmeldung. http://bomi40.eu/de/service-kompetenz
 /veranstaltungen/ort/event/2778-chatgpt-grundlagen-fuer-unternehmen
DTSTART:20240410T130000Z
DTEND:20240410T150000Z
LOCATION:Online-Event ()
SUMMARY:ChatGPT – Grundlagen für Unternehmen
URL:http://bomi40.eu/de/service-kompetenz/veranstaltungen/ort/event/2778-ch
 atgpt-grundlagen-fuer-unternehmen
END:VEVENT
END:VCALENDAR
