BEGIN:VCALENDAR
VERSION:2.0
PRODID:-//http://bomi40.eu///NONSGML kigkonsult.se iCalcreator 2.10.15//
METHOD:PUBLISH
BEGIN:VEVENT
UID:20260419T194543CEST-0797aZUBmv@http://bomi40.eu/
DTSTAMP:20260419T174543Z
DESCRIPTION:\n\nSeit 2021 wird die Webinar-Reihe „Digitale Impulse“ vom Bad
 en-Württembergischen Industrie- und Handelskammertag im Rahmen der Initiat
 ive für Einpersonen- und Kleinstunternehmen (EKU) organisiert. Sie richtet
  sich an EKU und bietet den Unternehmensangehörigen Know-how zu den Themen
  Social Media\, KI\, Digitalisierung und Marketing.\n\n&nbsp\;\nDiese Webi
 nare finden 2024 im Rahmen der Reihe statt:\n\n25.04.2024: LinkedIn Like a
  Pro\n15.05.2024: Wie Sie sich als EKU im Nachhaltigkeits-Dschungel zurech
 tfinden\n20.06.2024: Mini-Team\, maximale Leistung – durch KI!\n24.07.2024
 : Finanzmanagement für Kleinstunternehmen und Soloselbständige\n29.08.2024
 : Online-Marketing - Praxiswissen für Selbständige und Kleinstunternehmen
 \n26.09.2024 | Der Notfallkoffer für Unternehmerinnen und Unternehmer\n\nD
 ie Veranstaltung&nbsp\;„Online-Marketing – Praxiswissen für Selbstständige
  und Kleinstunternehmen“ findet am 29. August 2024 von 16:00 bis 17:30 Uhr
  online statt. Die Teilnahme ist kostenlos.\nMehr Informationen zur Verans
 taltungsreihe finden Sie hier ...\nHier geht es zur Anmeldung. http://bomi
 40.eu/de/service-kompetenz/veranstaltungen/ort/event/2788-digitale-impulse
 -online-marketing-praxiswissen-fuer-selbststaendige-und-kleinstunternehmen
DTSTART:20240829T140000Z
DTEND:20240829T153000Z
LOCATION:Online-Event ()
SUMMARY:Digitale Impulse: Online-Marketing – Praxiswissen für Selbstständig
 e und Kleinstunternehmen
URL:http://bomi40.eu/de/service-kompetenz/veranstaltungen/ort/event/2788-di
 gitale-impulse-online-marketing-praxiswissen-fuer-selbststaendige-und-klei
 nstunternehmen
END:VEVENT
END:VCALENDAR
