BEGIN:VCALENDAR
VERSION:2.0
PRODID:-//http://bomi40.eu///NONSGML kigkonsult.se iCalcreator 2.10.15//
METHOD:PUBLISH
BEGIN:VEVENT
UID:20260419T203616CEST-0337rz63mb@http://bomi40.eu/
DTSTAMP:20260419T183616Z
DESCRIPTION:\n\nDie NKS-DIT veranstaltet mit diversen externen Expertinnen 
 und Experten ein Doppelwebinar mit neusten Informationen rund um die Antra
 gsstellung in Horizont Europa speziell für KMU.\n&nbsp\;\nDie NKS DIT führ
 t Sie im Rahmen von zwei Webinaren mit exklusiven Gastbeiträgen von Multip
 likatoren\, Beiträgen von geförderten KMUs und Informationen aus Programme
 n außerhalb von Horizont Europa in diese herausfordernde Thematik ein.\n&n
 bsp\;\nDas erste Webinar mit aktuellen Informationen zur KMU Förderung\, e
 inem Beitrag vom Leibniz-Institut\, sowie zwei Erfahrungsberichte von KMU 
 findet am 26.06.2024 statt. Sie können sich&nbsp\;hier&nbsp\;anmelden.\n&n
 bsp\;\nDas zweite Webinar mit vertieften Informationen zu weiteren Förderm
 öglichkeiten in Säule 3 von Horizont Europa als auch in Eurostars\, sowie 
 Erfahrungsberichte von KMUs findet am 28.06.2024 statt. Sie können sich&nb
 sp\;hier&nbsp\;anmelden.\n\nDie Webinare finden am 26. sowie 28. Juni 2024
  von 10:00 bis 12:00 Uhr beziehungsweise 10:00 bis 11:00 Uhr&nbsp\;online 
 statt. Die Teilnahme ist kostenlos.\nMehr Informationen zur Veranstaltung 
 finden Sie hier ... http://bomi40.eu/de/service-kompetenz/veranstaltungen/
 ort/event/2795-kmu-veranstaltungen-mit-exklusiven-gastbeitraegen-nks-dit-w
 ebinar
DTSTART:20240626T080000Z
DTEND:20240626T100000Z
LOCATION:Online-Event ()
SUMMARY:KMU Veranstaltungen mit exklusiven Gastbeiträgen (NKS DIT Webinar)
URL:http://bomi40.eu/de/service-kompetenz/veranstaltungen/ort/event/2795-km
 u-veranstaltungen-mit-exklusiven-gastbeitraegen-nks-dit-webinar
END:VEVENT
END:VCALENDAR
