BEGIN:VCALENDAR
VERSION:2.0
PRODID:-//http://bomi40.eu///NONSGML kigkonsult.se iCalcreator 2.10.15//
METHOD:PUBLISH
BEGIN:VEVENT
UID:20260419T181005CEST-9679MjHUCv@http://bomi40.eu/
DTSTAMP:20260419T161005Z
DESCRIPTION:\n\n\nFür Unternehmer:innen\, Gründer:innen\, Wissenschaftler:i
 nnen und Innovator:Innen aus dem Südwesten und alle\, die den Wandel ins Ü
 bermorgen gestalten. Aus Buzzwords wie Künstliche Intelligenz\,&nbsp\;Meta
 verse\, New Work\, Robotik\, Med Tech\, Green Tech und Digitalisierung wer
 den unternehmens- und praxisnahe Impulse.\nBei aufrüttelnden Keynotes\, Pa
 nels und interaktiven Erlebnisstationen schauen wir gemeinsam über den Tel
 lerrand der Region. Das Käpsele Innovation Festival bringt regionale Innov
 ationen mit deutschland- und weltweiten Vorreiter:innen zusammen. In der b
 ekannten Festival-Kulisse des Freiburger Zelt-Musik-Festival (ZMF) entspan
 nt netzwerken bei Kaltgetränken und Summerfeeling. Als „Käpsele“ wie man i
 m Südwesten sagt: eintauchen in Zukunft zum Ausprobieren und Anfassen – un
 d Verbündete für die nächsten Zukunftsprojekte finden!\n\n\nDie Veranstalt
 ung findet am 15. Juli 2024 ganztägig auf dem Festivalgelände ZMF in Freib
 urg im Breisgau statt.\nMehr Informationen zur Veranstaltung finden Sie hi
 er ...\nTickets gibt es hier ...\n http://bomi40.eu/de/service-kompetenz/v
 eranstaltungen/ort/event/2801-kaepsele-innovation-festival
DTSTART;VALUE=DATE:20240715
LOCATION:Festivalgelände ZMF (Lehenerwinkelweg\, 79111 Freiburg im Breisgau
 -West\, Deutschland)
SUMMARY:Käpsele Innovation Festival
URL:http://bomi40.eu/de/service-kompetenz/veranstaltungen/ort/event/2801-ka
 epsele-innovation-festival
END:VEVENT
END:VCALENDAR
