BEGIN:VCALENDAR
VERSION:2.0
PRODID:-//http://bomi40.eu///NONSGML kigkonsult.se iCalcreator 2.10.15//
METHOD:PUBLISH
BEGIN:VEVENT
UID:20260419T174611CEST-2843bWBxuw@http://bomi40.eu/
DTSTAMP:20260419T154611Z
DESCRIPTION:\n\n\nBei der Lounge #37 konzentrieren wir uns auf das\, was wi
 rklich wichtig ist: Nachhaltiges Unternehmertum und seine ökonomische Umse
 tzbarkeit. Lass dich inspirieren und suche aktiv den Erfahrungsaustausch m
 it bis zu 120 Gründungsinteressierten\, Startups\, Investor:innen und etab
 lierten Unternehmen. Wir freuen uns auf kontroverse Gespräche\, viele Mutm
 acher\, Vorbilder und Beispiele aus der Praxis. Genieße ganz nebenbei das 
 sommerliche Ambiente auf der Dachterrasse der IHK Hochrhein-Bodensee mit B
 lick auf den Konstanzer Seerhein.\nFür Startups\nDu stehst vor der großen 
 Herausforderung\, dein Impact-Startup Wirklichkeit werden zu lassen? Du mö
 chtest dein Startup nachhaltig aufbauen\, aber die Finanzierung ist eine r
 iesige Herausforderung? Du suchst Kontakte aus dem D-A-CH-LIE-Raum\, die N
 achhaltigkeit ganzheitlich denken und ehrlich meinen?\nLerne in gemütliche
 r Atmosphäre Menschen kennen\, die Gewinn nicht nur am wirtschaftlichen Er
 folg\, sondern vor allem am gesellschaftlichen Mehrwert messen. Diskutiere
  die verschiedenen Aspekte von Nachhaltigem Unternehmertum. Begegne erfahr
 enen Unternehmer:innen\, die Nachhaltigkeit tief verinnerlicht und erfolgr
 eich in die Tat umgesetzt haben. Profitiere von ihrem Knowhow und Netzwerk
 .&nbsp\;Tausche dich mit anderen Startups aus und lass dich inspirieren.\n
 Für Investor:innen und etablierte Unternehmen\nEgal ob du in Startups inve
 stieren oder mit Startups kooperieren möchtest: Wir sprechen über die Dos 
 and Don'ts des ersten Kennenlernens und der weiteren Zusammenarbeit. In we
 lcher Atmosphäre kann eine Beziehung zwischen erfahrenen Unternehmer:innen
  und ambitionierten Startup-Gründer:innen gelingen? Welche Rahmenbedingung
 en verschaffen nicht nur dir einen guten Deal\, sondern ermöglichen auch d
 em Startup sowie den Menschen dahinter eine gesunde Entwicklung und Potenz
 ialentfaltung? Welche regionalen\, nachhaltig-motivierten Startups sind ge
 rade auf der Suche nach einem Investment und / oder einer Startup-Corporat
 e-Kooperation? (Achtung: Investor:innen und etablierte Unternehmen erhalte
 n nur Zugang zu diesem Bereich\, wenn im Vorfeld ein persönliches Kennenle
 rnen stattgefunden hat oder eine Mitgliedschaft vorliegt. Terminvereinbaru
 ngen unter info@startup-netzwerk-bodensee.com)\n\n\nDie Veranstaltung find
 et am 24. Juli 2024 von 15:30 bis 23:30 Uhr auf der Dachterasse der IHK Ho
 chrhein-Bodensee in Konstanz statt.\nMehr Informationen zur Veranstaltung 
 sowie Tickets finden Sie hier ... http://bomi40.eu/de/service-kompetenz/ve
 ranstaltungen/ort/event/2802-startup-lounge-37
DTSTART:20240724T133000Z
DTEND:20240724T213000Z
LOCATION:Bodenseeforum Konstanz\, Reichenaustraße 21\, 78467 Konstanz (Reic
 henaustraße 21\, 78467 Konstanz\, Deutschland)
SUMMARY:Startup Lounge #37
URL:http://bomi40.eu/de/service-kompetenz/veranstaltungen/ort/event/2802-st
 artup-lounge-37
END:VEVENT
END:VCALENDAR
