BEGIN:VCALENDAR
VERSION:2.0
PRODID:-//http://bomi40.eu///NONSGML kigkonsult.se iCalcreator 2.10.15//
METHOD:PUBLISH
BEGIN:VEVENT
UID:20260419T174615CEST-5701Muiivi@http://bomi40.eu/
DTSTAMP:20260419T154615Z
DESCRIPTION:\n\n\n\n\n\n\nDer&nbsp\;«Innovationday»&nbsp\;macht Innovation 
 im Gesundheitswesen greifbar: Wir setzen auf physisches und selbständiges 
 Ausprobieren von digitalen Lösungen und haben für diesen Tag einen «Markt 
 der Möglichkeiten» organisiert. Probieren Sie in diesem interaktiven Forma
 t neue Technologien aus\, machen Sie persönliche Hands-on-Erfahrungen und 
 lernen Sie konkrete Use Cases aus der Praxis kennen.\nZusammen mit den Hea
 lthCare Futurists (www.healthcarefuturists.com) sowie weiteren dhc-Mitglie
 dern und -Partnern präsentieren wir folgende Trends und Technologien:\n\n3
 D-Druck\nAR\, VR & Metaverse\nSmart Patients\, Smart Doctors & Smart Hospi
 tals\nKünstliche Intelligenz\n«dhc Showcase»\nRobotik\nExergaming\n\nZielg
 ruppe für diesen Event sind Mitarbeitende von Unternehmen aus dem Gesundhe
 itswesen\, welche sich für die Themen Innovation\, Digitalisierung und kon
 krete Digital-health-Lösungen interessieren.\n\n\n\n\n\n\nDer Innovationda
 y findet am 3. Juli 2024 von 8:30 bis 12:00 Uhr im digital health center b
 ülach (dhc) in Bülach\, Schweiz statt.\nMehr Informationen zur Veranstaltu
 ng finden Sie hier ...\n&nbsp\; http://bomi40.eu/de/service-kompetenz/vera
 nstaltungen/ort/event/2805-innovationday
DTSTART:20240703T063000Z
DTEND:20240703T100000Z
LOCATION:digital health center bülach (dhc) (Trafostrasse 1\, 8180 Bülach\,
  Schweiz)
SUMMARY:Innovationday
URL:http://bomi40.eu/de/service-kompetenz/veranstaltungen/ort/event/2805-in
 novationday
END:VEVENT
END:VCALENDAR
