BEGIN:VCALENDAR
VERSION:2.0
PRODID:-//http://bomi40.eu///NONSGML kigkonsult.se iCalcreator 2.10.15//
METHOD:PUBLISH
BEGIN:VEVENT
UID:20260419T174645CEST-4357cwRWDv@http://bomi40.eu/
DTSTAMP:20260419T154645Z
DESCRIPTION:\n\n\nDie Zukunft der Mobilität sowie innovative und nachhaltig
 e Lösungen\, um die Komplexität in der Mobilitätsbranche anzugehen\, sind 
 Themen\, die dich beschäftigen? Dann sei dabei bei der SML Conference zum 
 Thema nachhaltige Mobilität an der HTWG in Konstanz. Als Warm-up findet am
  26. September 2024 ein Hackathon statt. Das SML freut sich auf spannende 
 Vorträge\, innovative Gruppenworkshops\, jede Menge Netzwerken und Diskuti
 eren rund um die Zukunft der Mobilität.\nDie Veranstaltung findet am 27. S
 eptember&nbsp\;2024 an der HTWG Hochschule Konstanz statt.\n\n\nAnmeldung
 \n&nbsp\;\n&nbsp\; http://bomi40.eu/de/service-kompetenz/veranstaltungen/o
 rt/event/2806-sustainable-mobility-lab-conference
DTSTART;VALUE=DATE:20240927
LOCATION:HTWG Hochschule Konstanz (Alfred-Wachtel-Straße 8\, 78462 Konstanz
 \, Deutschland)
SUMMARY:Sustainable Mobility Lab Conference
URL:http://bomi40.eu/de/service-kompetenz/veranstaltungen/ort/event/2806-su
 stainable-mobility-lab-conference
END:VEVENT
END:VCALENDAR
