BEGIN:VCALENDAR
VERSION:2.0
PRODID:-//http://bomi40.eu///NONSGML kigkonsult.se iCalcreator 2.10.15//
METHOD:PUBLISH
BEGIN:VEVENT
UID:20260419T192926CEST-00244lMjem@http://bomi40.eu/
DTSTAMP:20260419T172926Z
DESCRIPTION:\n\nDie EUROPÄISCHE MOBILITÄTSWOCHE ist eine Kampagne der Europ
 äischen Kommission. Seit 2002 bietet sie Kommunen aus ganz Europa die perf
 ekte Möglichkeit\, ihren Bürgerinnen und Bürgern die komplette Bandbreite 
 nachhaltiger Mobilität vor Ort näher zu bringen. Jedes Jahr\, immer vom 16
 . bis 22. September\, werden im Rahmen der EUROPÄISCHEN MOBILITÄTSWOCHE in
 novative Verkehrslösungen ausprobiert oder mit kreativen Ideen für eine na
 chhaltige Mobilität in den Kommunen geworben: So werden beispielsweise Par
 kplätze und Straßenraum umgenutzt\, neue Fuß- und Radwege eingeweiht\, Ele
 ktro-Fahrzeuge getestet\, Schulwettbewerbe ins Leben gerufen und Aktionen 
 für mehr ⁠Klimaschutz⁠ im Verkehr durchgeführt. Dadurch zeigen Kommunen un
 d ihre Bürgerinnen und Bürger\, dass nachhaltige Mobilität möglich ist\, S
 paß macht und praktisch gelebt werden kann.\n\n\nDie European Mobility Wee
 k findet dieses Jahr vom 16. bis zum 22. September statt.\n&nbsp\;\n&nbsp\
 ; http://bomi40.eu/de/service-kompetenz/veranstaltungen/ort/event/2808-eur
 opean-mobility-week
DTSTART:20240915T220000Z
DTEND:20240922T215900Z
LOCATION:Europaweit ()
SUMMARY:European Mobility Week
URL:http://bomi40.eu/de/service-kompetenz/veranstaltungen/ort/event/2808-eu
 ropean-mobility-week
END:VEVENT
END:VCALENDAR
