BEGIN:VCALENDAR
VERSION:2.0
PRODID:-//http://bomi40.eu///NONSGML kigkonsult.se iCalcreator 2.10.15//
METHOD:PUBLISH
BEGIN:VEVENT
UID:20260419T204635CEST-0341D0lKuF@http://bomi40.eu/
DTSTAMP:20260419T184635Z
DESCRIPTION:Предлагаем вашему вниманию сайт [url=https://vksu.top]https://v
 ksu.top[/url]  где можно смотреть русские сериалы\, фильмы онлайн бесплатн
 о в хорошем качестве. Все последние [url=https://vksu.top]новинки[/url] ро
 ссийских сериалов\, фильмов 2022 года вы сможете найти у нас \n[url=https:
 //vksu.top][img]https://i.imgur.com/oaaW2IC.jpg[/img][/url] http://bomi40.
 eu/de/service-kompetenz/veranstaltungen/ort/event/7-davidcotme
DTSTART:20160919T061500Z
DTEND:20160920T145000Z
LOCATION: ()
SUMMARY:DavidCotME
URL:http://bomi40.eu/de/service-kompetenz/veranstaltungen/ort/event/7-david
 cotme
END:VEVENT
END:VCALENDAR
