BEGIN:VCALENDAR
VERSION:2.0
PRODID:-//http://bomi40.eu///NONSGML kigkonsult.se iCalcreator 2.10.15//
METHOD:PUBLISH
BEGIN:VEVENT
UID:20260421T201852CEST-8632ohsm0a@http://bomi40.eu/
DTSTAMP:20260421T181852Z
DESCRIPTION:Die Initiative #bodenseeinnovativ lädt Sie herzlich zu einem Ta
 g voller spannender Vorträge rund um das Thema Teststrecke in Friedrichsha
 fen ein.&nbsp\;\nZielgruppe dieser Veranstaltung sind Entwickler und Führu
 ngskräfte. Vernetzen Sie sich mit möglichen Projektpartnern und tauschen S
 ie sich über neue Technologien aus. Die Möglichkeiten im Umfeld der Testst
 recke neue Projekte zu initiieren sind vielfältig\, arbeiten Sie gemeinsam
  mit der Initiative #bodenseeinnovativ daran. Erhalten Sie neue Impulse un
 d lernen Sie die Initiative näher kennen.\n#bodenseeinnovativ ist eine För
 derinitiative der EU und des Landes Baden-Württemberg. Veranstalter des #b
 odenseeinnovativ Fachtages ist das Institut für Weiterbildung\, Wissens- u
 nd Technologietransfer (IWT).\nWas erwartet Sie am Fachtag:\nInnovationsmo
 tor Teststrecke \, David Pietsch – #bodenseeinnovativ und Dr.-Ing. Gerhard
  Gumpoltsberger – ZF Friedrichshafen AGVom Megatrend zur Teststrecke!\nFor
 mula Student Driverless – Aus der Vorlesung auf die Rennstrecke\, Christop
 h Wald – Student an der Hochschule WeingartenVon Studierenden lernen! Inne
 rhalb von einem Jahr wurde das autonom fahrende Fahrzeug entwickelt und au
 f der Rennstrecke gefahren. Christoph Wald\, Student an der Hochschule Wei
 ngarten zeigt die Herangehensweise\, technischen Hintergrund und die Imple
 mentierung des autonomen Systems und spricht über Erfahrungen und Ergebnis
 se.\nCar2X-Dienste im Rollout\, Dr. Toni Weisheit – TTS Europe GmbHDer Brü
 ckenschlag zwischen Infrastruktur und Fahrzeugapplikation\nScience Slam\, 
 Betrachtung von Innovationen auf humoristische Art\nSee.Think.Act. – Herau
 sforderungen beim automatisierten Fahren und Lösungen von ZF\, Dr. Gerhard
  Gumpoltsberger – ZF Friedrichshafen AG\nDie letzten Meter des autonomen F
 ahrens\, Daniel Schäftner – KLAUS Multiparking GmbH\nEffizientes Datenmana
 gement für autonomes Fahren\, Richard Woller – CMORE Automotive GmbHErprob
 ung auf innerstädtischen Teststrecken mit intelligenter Verkehrsinfrastruk
 tur\nIBM as driver for the future of mobility\, Dr. Henrik Loeser & Thomas
  Walz – IBM DeutschlandEin Überblick aktueller Projekte rund um E-Mobilitä
 t und autonomem sowie vernetztem Fahren\nAnmeldefrist ist der 31.10.2018.
 \nWeitere Informationen zur Veranstaltung und Anmeldung finden Sie hier. h
 ttp://bomi40.eu/de/service-kompetenz/veranstaltungen/veranstaltungskalende
 r/event/1220-bodenseeinnovativ-fachtag-innovationsmotor-teststrecke
DTSTART;VALUE=DATE:20181114
LOCATION:ZF Campus der Zeppelin Universität Friedrichshafen (Fallenbrunnen 
 3\, 88045 Friedrichshafen\, Deutschland)
SUMMARY:#bodenseeinnovativ Fachtag „Innovationsmotor Teststrecke“
URL:http://bomi40.eu/de/service-kompetenz/veranstaltungen/veranstaltungskal
 ender/event/1220-bodenseeinnovativ-fachtag-innovationsmotor-teststrecke
END:VEVENT
END:VCALENDAR
