BEGIN:VCALENDAR
VERSION:2.0
PRODID:-//http://bomi40.eu///NONSGML kigkonsult.se iCalcreator 2.10.15//
METHOD:PUBLISH
BEGIN:VEVENT
UID:20260421T202724CEST-97417PhU36@http://bomi40.eu/
DTSTAMP:20260421T182724Z
DESCRIPTION:Die Fachmesse BE 4.0 2019 findet in Mulhouse / Elsass statt\, e
 in wichtiger Industriestandort im Herzen der Region Grand Est. Als französ
 ischer Vorreiter im Bereich industrieller Investitionen (Automobil\, Luft-
  und Raumfahrt\, Energie…) bildet die Region ein Referenzgebiet für Advanc
 ed Manufacturing. Am Schnittpunkt französischer\, deutscher (Industrie 4.0
 ) und schweizerischer (Industrie 2025) Strategien präsentiert die Messe ne
 ue Lösungsansätze\, Innovationen und industrielle Ausbildungen.\nThemensch
 werpunkt:\nEnergie\, künstliche Intelligenz\nWeitere Informationen finden 
 Sie auf der Website der Veranstalter... http://bomi40.eu/de/service-kompet
 enz/veranstaltungen/veranstaltungskalender/event/1667-be-4-0-salon-industr
 ies-du-future
DTSTART;VALUE=DATE:20191119
LOCATION:Parc Expo Mulhouse (120 Rue Lefebvre\, 68100 Mulhouse\, Frankreich
 )
SUMMARY:Be 4.0 – Salon Industries du future
URL:http://bomi40.eu/de/service-kompetenz/veranstaltungen/veranstaltungskal
 ender/event/1667-be-4-0-salon-industries-du-future
END:VEVENT
END:VCALENDAR
