BEGIN:VCALENDAR
VERSION:2.0
PRODID:-//http://bomi40.eu///NONSGML kigkonsult.se iCalcreator 2.10.15//
METHOD:PUBLISH
BEGIN:VEVENT
UID:20260421T213229CEST-41677p6OkR@http://bomi40.eu/
DTSTAMP:20260421T193229Z
DESCRIPTION:Aus unserem Alltag ist eine leistbare Mobilität von Personen un
 d Waren nicht mehr wegzudenken. Die in den letzten Jahren zunehmenden Disk
 ussionen über Feinstaubbelastungen\, CO2 Emissionen und Flottenverbräuche 
 weisen jedoch auch auf die möglichen Nachteile unserer derzeitigen Mobilit
 ätskonzepte hin. Der Vorarlberger Techniktag 2020 beschäftigt sich mit der
  Elektromobilität. Vom e-Scooter über PKW/LKW bis hin zum all electric air
 craft soll beleuchtet werden\, welche Möglichkeiten die einzelnen Spielart
 en der Elektromobilität bieten und bieten werden.\nWeitere Details zum Pro
 gramm folgen noch. Die Möglichkeit zur Anmeldung finden Sie auf der Websit
 e der Veranstalter... http://bomi40.eu/de/service-kompetenz/veranstaltunge
 n/veranstaltungskalender/event/1694-vtt-vorarlberger-techniktag
DTSTART;VALUE=DATE:20200121
LOCATION:FH Vorarlberg (Hochschulstraße 1\, 6850 Dornbirn\, Österreich)
SUMMARY:VTT Vorarlberger Techniktag
URL:http://bomi40.eu/de/service-kompetenz/veranstaltungen/veranstaltungskal
 ender/event/1694-vtt-vorarlberger-techniktag
END:VEVENT
END:VCALENDAR
