BEGIN:VCALENDAR
VERSION:2.0
PRODID:-//http://bomi40.eu///NONSGML kigkonsult.se iCalcreator 2.10.15//
METHOD:PUBLISH
BEGIN:VEVENT
UID:20260421T225733CEST-6857VE6BxR@http://bomi40.eu/
DTSTAMP:20260421T205733Z
DESCRIPTION:Die HSR ist in zwei Ausstellungsformaten an der Swissbau in Bas
 el vertreten\, an der Swissbau Focus und im Swissbau Innovation Lab.Bei de
 r Swissbau Focus können Sie sich mit Fachleuten treffen und die aktuellen 
 Trends und Herausforderungen diskutieren. In diesem interdisziplinären Ver
 anstaltungs- und Netzwerkformat können Sie an verschiedenen Workshops und 
 Podiumsdiskussionen teilnehmen und Ausstellungen von diversen Anbietern be
 sichtigen.\nIm Swissbau Innovation Lab stellt die HSR neuartige Konzepte u
 nd Use Cases vor. Dort können Sie Neuerungen und Chancen neuer Technologie
 n in der Bauwelt erleben.\nWeitere Informationen zur Veranstaltung sowie d
 ie Möglichkeit zur Anmeldugn finden Sie auf der Website des Veranstalters.
 .. http://bomi40.eu/de/service-kompetenz/veranstaltungen/veranstaltungskal
 ender/event/1842-swissbau
DTSTART:20200114T110000Z
DTEND:20200118T160000Z
LOCATION:Messe Basel (Messepl. 10\, 4058 Basel\, Schweiz)
SUMMARY:Swissbau
URL:http://bomi40.eu/de/service-kompetenz/veranstaltungen/veranstaltungskal
 ender/event/1842-swissbau
END:VEVENT
END:VCALENDAR
