BEGIN:VCALENDAR
VERSION:2.0
PRODID:-//http://bomi40.eu///NONSGML kigkonsult.se iCalcreator 2.10.15//
METHOD:PUBLISH
BEGIN:VEVENT
UID:20260421T233407CEST-8511uHJ7Xg@http://bomi40.eu/
DTSTAMP:20260421T213407Z
DESCRIPTION:In der Veranstaltung berichten Gründer und Unternehmer dieses M
 al auf der virtuellen Bühne humorvoll und todernst zugleich von ihren pers
 önlichen Erfahrungen mit dem Scheitern.\nDas Publikum hat die Möglichkeit\
 , Fragen an die Speaker zu stellen und Learnings für sich als Gründer und 
 Unternehmer\, aber auch für sich persönlich mitzunehmen.\nMotto:&nbsp\;„di
 e besten Geschichten beginnen mit einer falschen Entscheidung“\nSpeaker: A
 ndreas Kitzing\, Lars Willi\, Paul Weißhaar\nDie Veranstaltung ist kostenl
 os\, eine Anmeldung erforderlich.\nAnmeldeformular http://bomi40.eu/de/ser
 vice-kompetenz/veranstaltungen/veranstaltungskalender/event/2143-fuckup-ni
 ght-friedrichshafen-vol-v
DTSTART:20210311T180000Z
DTEND:20210311T200000Z
LOCATION: Online an Ihrem PC oder Laptop ()
SUMMARY:Fuckup Night Friedrichshafen // Vol. V
URL:http://bomi40.eu/de/service-kompetenz/veranstaltungen/veranstaltungskal
 ender/event/2143-fuckup-night-friedrichshafen-vol-v
END:VEVENT
END:VCALENDAR
