BEGIN:VCALENDAR
VERSION:2.0
PRODID:-//http://bomi40.eu///NONSGML kigkonsult.se iCalcreator 2.10.15//
METHOD:PUBLISH
BEGIN:VEVENT
UID:20260425T002111CEST-8649uxIax3@http://bomi40.eu/
DTSTAMP:20260424T222111Z
DESCRIPTION:Am Mobility Day werden Probleme\, Lösungen und Strategien sowie
  konkrete Projekte zur Mobilitätsgestaltung im Alpenraum vorgestellt.\nUm 
 diese Herausforderung gemeinsam anzugehen\, wird vor allem die Zusammenarb
 eit zwischen Politik\, Wissenschaft und Wirtschaft in Forschungs- und Inno
 vationsprojekten vorgestellt und diskutiert werden.\nReferent*innen aus Po
 litik\, Wissenschaft und Wirtschaft stellen Ihnen Strategien und Projekte 
 vor\, die zentrale Herausforderungen der Mobilität direkt vor Ort lösen.\n
 Eine Anmeldung ist erforderlich.\nWeitere Informationen finden Sie hier...
  http://bomi40.eu/de/service-kompetenz/veranstaltungen/veranstaltungskalen
 der/event/2228-mobility-day-from-strategy-to-implementation-tackling-mobil
 ity-challenges-in-the-alpine-region
DTSTART:20210701T070000Z
DTEND:20210701T103000Z
LOCATION: Online an Ihrem PC oder Laptop ()
SUMMARY:Mobility Day: From Strategy to Implementation: Tackling Mobility Ch
 allenges in the Alpine Region
URL:http://bomi40.eu/de/service-kompetenz/veranstaltungen/veranstaltungskal
 ender/event/2228-mobility-day-from-strategy-to-implementation-tackling-mob
 ility-challenges-in-the-alpine-region
END:VEVENT
END:VCALENDAR
