BEGIN:VCALENDAR
VERSION:2.0
PRODID:-//http://bomi40.eu///NONSGML kigkonsult.se iCalcreator 2.10.15//
METHOD:PUBLISH
BEGIN:VEVENT
UID:20260421T220419CEST-8444esllaZ@http://bomi40.eu/
DTSTAMP:20260421T200419Z
DESCRIPTION:Südbaden steckt voller Know-How\, zukunftsweisender Ideen und i
 nnovativer Forschung. Das Regionalbüro Südbaden der Konrad-Adenauer-Stiftu
 ng möchte dieses Potenzial in einer Veranstaltungsreihe vorstellen.\nIm zw
 eiten Teil der Veranstaltungsreihe widmen sich die Veranstalter*innen an d
 ie dynamische Start-Up-Kultur in der Region und fragen\, wie junge Unterne
 hmerinnen und Unternehmer die Zukunft gestalten.\nFragen:\nWas zeichnet di
 e innovative Start-Up-Landschaft in Südbaden aus? Wie kann man selbst mit 
 einem Start-Up erfolgreich sein und sich in der Region vernetzen? Welchen 
 Beitrag leisten visionäre Ideen junger Unternehmen für unsere Wirtschaft?
 \nReferenten:\nProf. Dr. Guido H. Baltes\, Direktor des IST Innovationsins
 tituts an der Hochschule Konstanz Dr. Frauke Lorenzen\, Projektkoordinatio
 n „Gründen am Oberrhein“ (KTUR)\nDie Teilnahme ist kostenfrei.\nAnmeldefor
 mular.\nAnmeldeschluss ist Mittwoch\, der 23. Juni 2021 um 12.00 Uhr.\nWei
 tere Informationen zur Veranstaltung finden Sie hier... http://bomi40.eu/d
 e/service-kompetenz/veranstaltungen/veranstaltungskalender/event/2243-schw
 arzwald-statt-silicon-valley-start-ups-als-innovationstraeger-in-suedbaden
DTSTART:20210623T153000Z
DTEND:20210623T163000Z
LOCATION: Online an Ihrem PC oder Laptop ()
SUMMARY:Schwarzwald statt Silicon Valley. Start-Ups als Innovationsträger i
 n Südbaden 
URL:http://bomi40.eu/de/service-kompetenz/veranstaltungen/veranstaltungskal
 ender/event/2243-schwarzwald-statt-silicon-valley-start-ups-als-innovation
 straeger-in-suedbaden
END:VEVENT
END:VCALENDAR
