BEGIN:VCALENDAR
VERSION:2.0
PRODID:-//http://bomi40.eu///NONSGML kigkonsult.se iCalcreator 2.10.15//
METHOD:PUBLISH
BEGIN:VEVENT
UID:20260421T224618CEST-6757cdSObk@http://bomi40.eu/
DTSTAMP:20260421T204618Z
DESCRIPTION:Ihr Erfolg hängt davon ab\, dass Sie auf dem neuesten technisch
 en Stand bleiben\, Impulse erhalten und Ihr Netzwerk pflegen. In der Fachv
 eranstaltung werden Ihnen kunststofftechnische Trends\, Praxisumsetzungen 
 und Entwicklungen gezeigt. Die Themen 2023 umfassen:\n\nNachhaltigkeit im 
 Unternehmen – was ist zu tun\nRecycling- & Biokunststoffe richtig auswähle
 n\nPraxisbeispiel: Digitalisierung effektiv umgesetzt\nInline-Viskositätsm
 essung vermeidet Prozessschwankungen\nEnergieeffizienz an Maschine\; Perip
 herie & Spritzgießwerkzeug\nBenchmark: EMV Abschirmung durch Kunststoffe\n
 Körperschallmessung an Spritzgießwerkzeugen – Ausfälle frühzeitig erkennen
 \n\nZiel ist es\, Sie über die aktuellen Themen zu informieren und eine Pl
 attform zum Netzwerken zur Verfügung zu stellen. Die begleitende Ausstellu
 ng und der Dialog mit Experten*innen sind wertvolle Kontakte für Ihre Proj
 ekte und Vorhaben.\nAnmeldung\nTickets: 396\,00 €\nProgramm\nWeitere Infor
 mationen zur Veranstaltung finden Sie hier... http://bomi40.eu/de/service-
 kompetenz/veranstaltungen/veranstaltungskalender/event/2632-7-innovationfo
 rum-kunststofftechnik
DTSTART:20230419T070000Z
DTEND:20230419T140000Z
LOCATION:Neue Tonhalle Villingen (Bertholdstraße 7\, 78050 Villingen-Schwen
 ningen\, Deutschland)
SUMMARY:7. InnovationForum Kunststofftechnik
URL:http://bomi40.eu/de/service-kompetenz/veranstaltungen/veranstaltungskal
 ender/event/2632-7-innovationforum-kunststofftechnik
END:VEVENT
END:VCALENDAR
