BEGIN:VCALENDAR
VERSION:2.0
PRODID:-//http://bomi40.eu///NONSGML kigkonsult.se iCalcreator 2.10.15//
METHOD:PUBLISH
BEGIN:VEVENT
UID:20260421T220309CEST-8433sjL1gE@http://bomi40.eu/
DTSTAMP:20260421T200309Z
DESCRIPTION:Beim kostenfreien Grundlagen-Workshop werden in drei Stunden di
 e wichtigsten Bausteine einer erfolgreichen Existenzgründung angesprochen.
 \nDie Teilnehmer erhalten Tipps zur Finanzierung ihres Vorhabens sowie Hin
 weise auf Qualifizierungs- und Weiterbildungsangebote. Darüber hinaus wird
  Hilfestellung zur Erstellung des Geschäftsplans/Businessplans gegeben.\nD
 ie Teilnahme ist kostenfrei.\nAnmeldung\nWeitere Informationen zur Veranst
 altung befinden sich hier... \n&nbsp\; http://bomi40.eu/de/service-kompete
 nz/veranstaltungen/veranstaltungskalender/event/2648-grundlagen-workshop-z
 ur-existenzgruendung
DTSTART:20230510T070000Z
DTEND:20230510T100000Z
LOCATION:IHK Bodensee-Oberschwaben (Lindenstraße 2\, 88250 Weingarten\, Deu
 tschland)
SUMMARY:Grundlagen-Workshop zur Existenzgründung
URL:http://bomi40.eu/de/service-kompetenz/veranstaltungen/veranstaltungskal
 ender/event/2648-grundlagen-workshop-zur-existenzgruendung
END:VEVENT
END:VCALENDAR
