BEGIN:VCALENDAR
VERSION:2.0
PRODID:-//http://bomi40.eu///NONSGML kigkonsult.se iCalcreator 2.10.15//
METHOD:PUBLISH
BEGIN:VEVENT
UID:20260421T184318CEST-1112EZzsev@http://bomi40.eu/
DTSTAMP:20260421T164318Z
DESCRIPTION:In unserem Leben müssen wir ständig Entscheidungen treffen. Die
 s gilt auch für das berufliche Umfeld und insbesondere für Führungskräfte 
 im Unternehmen. Schlechte Entscheidungen haben eine enorme Tragweite und k
 önnen ein Unternehmen sogar in eine Krise führen. Auch der Gesetzgeber sch
 reibt vor\, dass unternehmerische Entscheidungen bestimmten Anforderungen 
 genügen müssen. Erfahren Sie in dieser Veranstaltung\, wie Sie Ihr Unterne
 hmen durch bessere Entscheidungen noch erfolgreicher führen!\nDie Teilnahm
 e an der Reihe 'Digitale Impulse' ist kostenfrei.Diese Veranstaltung ist T
 eil der Landesinitiative der baden-württembergischen Industrie- und Handel
 skammern.\nAnmeldung\nWeitere Informationen zur Veranstaltung befinden sic
 h hier... http://bomi40.eu/de/service-kompetenz/veranstaltungen/veranstalt
 ungskalender/event/2696-durch-bessere-entscheidungen-zu-mehr-unternehmeris
 chem-erfolg
DTSTART:20230517T140000Z
DTEND:20230517T153000Z
LOCATION: Online an Ihrem PC oder Laptop ()
SUMMARY:Durch bessere Entscheidungen zu mehr unternehmerischem Erfolg
URL:http://bomi40.eu/de/service-kompetenz/veranstaltungen/veranstaltungskal
 ender/event/2696-durch-bessere-entscheidungen-zu-mehr-unternehmerischem-er
 folg
END:VEVENT
END:VCALENDAR
